{"text_format":"1","workbook":"xlsx","n_sheets":32,"sheets":["Oppsummering","K1","K2","K3","K4","K5","K6","K7","K8","K9","K10","K11","K12","K13","K14","K15","K16","K17","K18","K19","K20","K21","K22","K23","K24","K25","K26","K27","K28","K29","K30","Oppsummering_IRT"],"not_rendered":{"charts":0,"images":0,"macros":1,"external_links":0,"defined_names":32,"comments":0,"pivot_tables":0},"unopened":[],"bounds":{"document_bytes":16777216,"sheet_cells":100000,"rows_first":2000,"rows_last":500,"rows_between":2000,"halvings":0,"cell_chars":16384,"cell_head_chars":4096},"cells_cut":0,"cells_raw":0,"read":"whole","date_system":"1900"}

{"sheet":"Oppsummering","index":0,"n_rows":31,"n_cols":5,"rows_kept":31,"cut":false,"hidden":false,"merged":[]}
[null,"Kand. nr","Poeng","Eget karakterforslag","Kommentarer"]
["K1",{"$f":"'K1'!$B$6","v":0},{"$f":"'K1'!$Y$7","v":0},{"$f":"'K1'!$E$19","v":0},{"$f":"'K1'!Kommentarer","v":0}]
["K2",{"$f":"'K2'!$B$6","v":0},{"$f":"'K2'!$Y$7","v":0},{"$f":"'K2'!$E$19","v":0},{"$f":"'K2'!Kommentarer","v":0}]
["K3",{"$f":"'K3'!$B$6","v":0},{"$f":"'K3'!$Y$7","v":0},{"$f":"'K3'!$E$19","v":0},{"$f":"'K3'!Kommentarer","v":0}]
["K4",{"$f":"'K4'!$B$6","v":0},{"$f":"'K4'!$Y$7","v":0},{"$f":"'K4'!$E$19","v":0},{"$f":"'K4'!Kommentarer","v":0}]
["K5",{"$f":"'K5'!$B$6","v":0},{"$f":"'K5'!$Y$7","v":0},{"$f":"'K5'!$E$19","v":0},{"$f":"'K5'!Kommentarer","v":0}]
["K6",{"$f":"'K6'!$B$6","v":0},{"$f":"'K6'!$Y$7","v":0},{"$f":"'K6'!$E$19","v":0},{"$f":"'K6'!Kommentarer","v":0}]
["K7",{"$f":"'K7'!$B$6","v":0},{"$f":"'K7'!$Y$7","v":0},{"$f":"'K7'!$E$19","v":0},{"$f":"'K7'!Kommentarer","v":0}]
["K8",{"$f":"'K8'!$B$6","v":0},{"$f":"'K8'!$Y$7","v":0},{"$f":"'K8'!$E$19","v":0},{"$f":"'K8'!Kommentarer","v":0}]
["K9",{"$f":"'K9'!$B$6","v":0},{"$f":"'K9'!$Y$7","v":0},{"$f":"'K9'!$E$19","v":0},{"$f":"'K9'!Kommentarer","v":0}]
["K10",{"$f":"'K10'!$B$6","v":0},{"$f":"'K10'!$Y$7","v":0},{"$f":"'K10'!$E$19","v":0},{"$f":"'K10'!Kommentarer","v":0}]
["K11",{"$f":"'K11'!$B$6","v":0},{"$f":"'K11'!$Y$7","v":0},{"$f":"'K11'!$E$19","v":0},{"$f":"'K11'!Kommentarer","v":0}]
["K12",{"$f":"'K12'!$B$6","v":0},{"$f":"'K12'!$Y$7","v":0},{"$f":"'K12'!$E$19","v":0},{"$f":"'K12'!Kommentarer","v":0}]
["K13",{"$f":"'K13'!$B$6","v":0},{"$f":"'K13'!$Y$7","v":0},{"$f":"'K13'!$E$19","v":0},{"$f":"'K13'!Kommentarer","v":0}]
["K14",{"$f":"'K14'!$B$6","v":0},{"$f":"'K14'!$Y$7","v":0},{"$f":"'K14'!$E$19","v":0},{"$f":"'K14'!Kommentarer","v":0}]
["K15",{"$f":"'K15'!$B$6","v":0},{"$f":"'K15'!$Y$7","v":0},{"$f":"'K15'!$E$19","v":0},{"$f":"'K15'!Kommentarer","v":0}]
["K16",{"$f":"'K16'!$B$6","v":0},{"$f":"'K16'!$Y$7","v":0},{"$f":"'K16'!$E$19","v":0},{"$f":"'K16'!Kommentarer","v":0}]
["K17",{"$f":"'K17'!$B$6","v":0},{"$f":"'K17'!$Y$7","v":0},{"$f":"'K17'!$E$19","v":0},{"$f":"'K17'!Kommentarer","v":0}]
["K18",{"$f":"'K18'!$B$6","v":0},{"$f":"'K18'!$Y$7","v":0},{"$f":"'K18'!$E$19","v":0},{"$f":"'K18'!Kommentarer","v":0}]
["K19",{"$f":"'K19'!$B$6","v":0},{"$f":"'K19'!$Y$7","v":0},{"$f":"'K19'!$E$19","v":0},{"$f":"'K19'!Kommentarer","v":0}]
["K20",{"$f":"'K20'!$B$6","v":0},{"$f":"'K20'!$Y$7","v":0},{"$f":"'K20'!$E$19","v":0},{"$f":"'K20'!Kommentarer","v":0}]
["K21",{"$f":"'K21'!$B$6","v":0},{"$f":"'K21'!$Y$7","v":0},{"$f":"'K21'!$E$19","v":0},{"$f":"'K21'!Kommentarer","v":0}]
["K22",{"$f":"'K22'!$B$6","v":0},{"$f":"'K22'!$Y$7","v":0},{"$f":"'K22'!$E$19","v":0},{"$f":"'K22'!Kommentarer","v":0}]
["K23",{"$f":"'K23'!$B$6","v":0},{"$f":"'K23'!$Y$7","v":0},{"$f":"'K23'!$E$19","v":0},{"$f":"'K23'!Kommentarer","v":0}]
["K24",{"$f":"'K24'!$B$6","v":0},{"$f":"'K24'!$Y$7","v":0},{"$f":"'K24'!$E$19","v":0},{"$f":"'K24'!Kommentarer","v":0}]
["K25",{"$f":"'K25'!$B$6","v":0},{"$f":"'K25'!$Y$7","v":0},{"$f":"'K25'!$E$19","v":0},{"$f":"'K25'!Kommentarer","v":0}]
["K26",{"$f":"'K26'!$B$6","v":0},{"$f":"'K26'!$Y$7","v":0},{"$f":"'K26'!$E$19","v":0},{"$f":"'K26'!Kommentarer","v":0}]
["K27",{"$f":"'K27'!$B$6","v":0},{"$f":"'K27'!$Y$7","v":0},{"$f":"'K27'!$E$19","v":0},{"$f":"'K27'!Kommentarer","v":0}]
["K28",{"$f":"'K28'!$B$6","v":0},{"$f":"'K28'!$Y$7","v":0},{"$f":"'K28'!$E$19","v":0},{"$f":"'K28'!Kommentarer","v":0}]
["K29",{"$f":"'K29'!$B$6","v":0},{"$f":"'K29'!$Y$7","v":0},{"$f":"'K29'!$E$19","v":0},{"$f":"'K29'!Kommentarer","v":0}]
["K30",{"$f":"'K30'!$B$6","v":0},{"$f":"'K30'!$Y$7","v":0},{"$f":"'K30'!$E$19","v":0},{"$f":"'K30'!Kommentarer","v":0}]

{"sheet":"K1","index":1,"n_rows":21,"n_cols":25,"rows_kept":21,"cut":false,"hidden":false,"merged":[[0,1,0,24],[10,1,10,13],[4,2,6,2],[19,1,19,3],[11,1,11,3],[12,1,12,3],[12,7,20,24],[15,1,15,3],[18,1,18,3],[14,1,14,3],[13,1,13,3]]}
[null,"VURDERINGSSKJEMA for sentralt gitt skriftlig eksamen i  REA3062 Matematikk S2"]
[]
[null,"Fagkode:","REA3062",null,"Fagnavn:",null,"Matematikk S2",null,null,null,"Gruppe:",null,null,null,null,null,null,null,"Sensor:"]
[]
[null,"Kand.nr:","Del 1","Oppgave",1,"2a","2b","3a","3b","4a","4b",5,"6a","6b","6c",null,null,null,null,null,null,null,null,"SUM \nDEL 1"]
[null,null,null,"Poeng",2,2,2,2,2,2,2,2,2,2,2,null,null,null,null,null,null,null,null,{"$f":"SUM(E6:O6)","v":22},"TOTALT"]
[null,null,null,"Sensors\npoeng",null,null,null,null,null,null,null,null,null,null,null,null,null,null,null,null,null,null,null,{"$f":"SUM(E7:O7)","v":0},{"$f":"X7+X10","v":0}]
[null,null,"Del 2","Oppgave","1a","1b","2a","2b","2c","3a","3b","3c","4a","4b","4c","5a","5b",null,null,null,null,null,null,"SUM \nDEL 2","AV"]
[null,null,null,"Poeng",2,2,2,2,2,2,2,2,2,2,2,2,2,null,null,null,null,null,null,{"$f":"SUM(E9:S9)","v":26},{"$f":"X6+X9","v":48}]
[null,null,null,"Sensors\npoeng",null,null,null,null,null,null,null,null,null,null,null,null,null,null,null,null,null,null,null,{"$f":"SUM(E10:S10)","v":0}]
[null,"SAMLET VURDERING (Se Eksamensveiledning LK20 )"]
[null,"Kompetanse",null,null,2,"3/4","5/6","Kommentarer:"]
[null,"Begreper og ferdigheter"]
[null,"Sammenhenger og anvendelser"]
[null,"Utforsking og problemløsing"]
[null,"Resonnering og kommunikasjon"]
[]
[null,"Karakterforslag"]
[null,"Eget karakterforslag"]
[null,"Medsensors forslag"]
[null,"Endelig karakter"]

{"sheet":"K2","index":2,"n_rows":21,"n_cols":25,"rows_kept":21,"cut":false,"hidden":false,"merged":[[0,1,0,24],[18,1,18,3],[19,1,19,3],[4,2,6,2],[10,1,10,13],[11,1,11,3],[12,1,12,3],[12,7,20,24],[13,1,13,3],[14,1,14,3],[15,1,15,3]]}
[null,"VURDERINGSSKJEMA for sentralt gitt skriftlig eksamen i  REA3062 Matematikk S2"]
[]
[null,"Fagkode:","REA3062",null,"Fagnavn:",null,"Matematikk S2",null,null,null,"Gruppe:",null,null,null,null,null,null,null,"Sensor:"]
[]
[null,"Kand.nr:","Del 1","Oppgave",1,"2a","2b","3a","3b","4a","4b",5,"6a","6b","6c",null,null,null,null,null,null,null,null,"SUM \nDEL 1"]
[null,null,null,"Poeng",2,2,2,2,2,2,2,2,2,2,2,null,null,null,null,null,null,null,null,{"$f":"SUM(E6:O6)","v":22},"TOTALT"]
[null,null,null,"Sensors\npoeng",null,null,null,null,null,null,null,null,null,null,null,null,null,null,null,null,null,null,null,{"$f":"SUM(E7:O7)","v":0},{"$f":"X7+X10","v":0}]
[null,null,"Del 2","Oppgave","1a","1b","2a","2b","2c","3a","3b","3c","4a","4b","4c","5a","5b",null,null,null,null,null,null,"SUM \nDEL 2","AV"]
[null,null,null,"Poeng",2,2,2,2,2,2,2,2,2,2,2,2,2,null,null,null,null,null,null,{"$f":"SUM(E9:S9)","v":26},{"$f":"X6+X9","v":48}]
[null,null,null,"Sensors\npoeng",null,null,null,null,null,null,null,null,null,null,null,null,null,null,null,null,null,null,null,{"$f":"SUM(E10:S10)","v":0}]
[null,"SAMLET VURDERING (Se Eksamensveiledning LK20 )"]
[null,"Kompetanse",null,null,2,"3/4","5/6","Kommentarer:"]
[null,"Begreper og ferdigheter"]
[null,"Sammenhenger og anvendelser"]
[null,"Utforsking og problemløsing"]
[null,"Resonnering og kommunikasjon"]
[]
[null,"Karakterforslag"]
[null,"Eget karakterforslag"]
[null,"Medsensors forslag"]
[null,"Endelig karakter"]

{"sheet":"K3","index":3,"n_rows":21,"n_cols":25,"rows_kept":21,"cut":false,"hidden":false,"merged":[[0,1,0,24],[18,1,18,3],[19,1,19,3],[4,2,6,2],[10,1,10,13],[11,1,11,3],[12,1,12,3],[12,7,20,24],[13,1,13,3],[14,1,14,3],[15,1,15,3]]}
[null,"VURDERINGSSKJEMA for sentralt gitt skriftlig eksamen i  REA3062 Matematikk S2"]
[]
[null,"Fagkode:","REA3062",null,"Fagnavn:",null,"Matematikk S2",null,null,null,"Gruppe:",null,null,null,null,null,null,null,"Sensor:"]
[]
[null,"Kand.nr:","Del 1","Oppgave",1,"2a","2b","3a","3b","4a","4b",5,"6a","6b","6c",null,null,null,null,null,null,null,null,"SUM \nDEL 1"]
[null,null,null,"Poeng",2,2,2,2,2,2,2,2,2,2,2,null,null,null,null,null,null,null,null,{"$f":"SUM(E6:O6)","v":22},"TOTALT"]
[null,null,null,"Sensors\npoeng",null,null,null,null,null,null,null,null,null,null,null,null,null,null,null,null,null,null,null,{"$f":"SUM(E7:O7)","v":0},{"$f":"X7+X10","v":0}]
[null,null,"Del 2","Oppgave","1a","1b","2a","2b","2c","3a","3b","3c","4a","4b","4c","5a","5b",null,null,null,null,null,null,"SUM \nDEL 2","AV"]
[null,null,null,"Poeng",2,2,2,2,2,2,2,2,2,2,2,2,2,null,null,null,null,null,null,{"$f":"SUM(E9:S9)","v":26},{"$f":"X6+X9","v":48}]
[null,null,null,"Sensors\npoeng",null,null,null,null,null,null,null,null,null,null,null,null,null,null,null,null,null,null,null,{"$f":"SUM(E10:S10)","v":0}]
[null,"SAMLET VURDERING (Se Eksamensveiledning LK20 )"]
[null,"Kompetanse",null,null,2,"3/4","5/6","Kommentarer:"]
[null,"Begreper og ferdigheter"]
[null,"Sammenhenger og anvendelser"]
[null,"Utforsking og problemløsing"]
[null,"Resonnering og kommunikasjon"]
[]
[null,"Karakterforslag"]
[null,"Eget karakterforslag"]
[null,"Medsensors forslag"]
[null,"Endelig karakter"]

{"sheet":"K4","index":4,"n_rows":21,"n_cols":25,"rows_kept":21,"cut":false,"hidden":false,"merged":[[0,1,0,24],[18,1,18,3],[19,1,19,3],[4,2,6,2],[10,1,10,13],[11,1,11,3],[12,1,12,3],[12,7,20,24],[13,1,13,3],[14,1,14,3],[15,1,15,3]]}
[null,"VURDERINGSSKJEMA for sentralt gitt skriftlig eksamen i  REA3062 Matematikk S2"]
[]
[null,"Fagkode:","REA3062",null,"Fagnavn:",null,"Matematikk S2",null,null,null,"Gruppe:",null,null,null,null,null,null,null,"Sensor:"]
[]
[null,"Kand.nr:","Del 1","Oppgave",1,"2a","2b","3a","3b","4a","4b",5,"6a","6b","6c",null,null,null,null,null,null,null,null,"SUM \nDEL 1"]
[null,null,null,"Poeng",2,2,2,2,2,2,2,2,2,2,2,null,null,null,null,null,null,null,null,{"$f":"SUM(E6:O6)","v":22},"TOTALT"]
[null,null,null,"Sensors\npoeng",null,null,null,null,null,null,null,null,null,null,null,null,null,null,null,null,null,null,null,{"$f":"SUM(E7:O7)","v":0},{"$f":"X7+X10","v":0}]
[null,null,"Del 2","Oppgave","1a","1b","2a","2b","2c","3a","3b","3c","4a","4b","4c","5a","5b",null,null,null,null,null,null,"SUM \nDEL 2","AV"]
[null,null,null,"Poeng",2,2,2,2,2,2,2,2,2,2,2,2,2,null,null,null,null,null,null,{"$f":"SUM(E9:S9)","v":26},{"$f":"X6+X9","v":48}]
[null,null,null,"Sensors\npoeng",null,null,null,null,null,null,null,null,null,null,null,null,null,null,null,null,null,null,null,{"$f":"SUM(E10:S10)","v":0}]
[null,"SAMLET VURDERING (Se Eksamensveiledning LK20 )"]
[null,"Kompetanse",null,null,2,"3/4","5/6","Kommentarer:"]
[null,"Begreper og ferdigheter"]
[null,"Sammenhenger og anvendelser"]
[null,"Utforsking og problemløsing"]
[null,"Resonnering og kommunikasjon"]
[]
[null,"Karakterforslag"]
[null,"Eget karakterforslag"]
[null,"Medsensors forslag"]
[null,"Endelig karakter"]

{"sheet":"K5","index":5,"n_rows":21,"n_cols":25,"rows_kept":21,"cut":false,"hidden":false,"merged":[[0,1,0,24],[18,1,18,3],[19,1,19,3],[4,2,6,2],[10,1,10,13],[11,1,11,3],[12,1,12,3],[12,7,20,24],[13,1,13,3],[14,1,14,3],[15,1,15,3]]}
[null,"VURDERINGSSKJEMA for sentralt gitt skriftlig eksamen i  REA3062 Matematikk S2"]
[]
[null,"Fagkode:","REA3062",null,"Fagnavn:",null,"Matematikk S2",null,null,null,"Gruppe:",null,null,null,null,null,null,null,"Sensor:"]
[]
[null,"Kand.nr:","Del 1","Oppgave",1,"2a","2b","3a","3b","4a","4b",5,"6a","6b","6c",null,null,null,null,null,null,null,null,"SUM \nDEL 1"]
[null,null,null,"Poeng",2,2,2,2,2,2,2,2,2,2,2,null,null,null,null,null,null,null,null,{"$f":"SUM(E6:O6)","v":22},"TOTALT"]
[null,null,null,"Sensors\npoeng",null,null,null,null,null,null,null,null,null,null,null,null,null,null,null,null,null,null,null,{"$f":"SUM(E7:O7)","v":0},{"$f":"X7+X10","v":0}]
[null,null,"Del 2","Oppgave","1a","1b","2a","2b","2c","3a","3b","3c","4a","4b","4c","5a","5b",null,null,null,null,null,null,"SUM \nDEL 2","AV"]
[null,null,null,"Poeng",2,2,2,2,2,2,2,2,2,2,2,2,2,null,null,null,null,null,null,{"$f":"SUM(E9:S9)","v":26},{"$f":"X6+X9","v":48}]
[null,null,null,"Sensors\npoeng",null,null,null,null,null,null,null,null,null,null,null,null,null,null,null,null,null,null,null,{"$f":"SUM(E10:S10)","v":0}]
[null,"SAMLET VURDERING (Se Eksamensveiledning LK20 )"]
[null,"Kompetanse",null,null,2,"3/4","5/6","Kommentarer:"]
[null,"Begreper og ferdigheter"]
[null,"Sammenhenger og anvendelser"]
[null,"Utforsking og problemløsing"]
[null,"Resonnering og kommunikasjon"]
[]
[null,"Karakterforslag"]
[null,"Eget karakterforslag"]
[null,"Medsensors forslag"]
[null,"Endelig karakter"]

{"sheet":"K6","index":6,"n_rows":21,"n_cols":25,"rows_kept":21,"cut":false,"hidden":false,"merged":[[0,1,0,24],[18,1,18,3],[19,1,19,3],[4,2,6,2],[10,1,10,13],[11,1,11,3],[12,1,12,3],[12,7,20,24],[13,1,13,3],[14,1,14,3],[15,1,15,3]]}
[null,"VURDERINGSSKJEMA for sentralt gitt skriftlig eksamen i  REA3062 Matematikk S2"]
[]
[null,"Fagkode:","REA3062",null,"Fagnavn:",null,"Matematikk S2",null,null,null,"Gruppe:",null,null,null,null,null,null,null,"Sensor:"]
[]
[null,"Kand.nr:","Del 1","Oppgave",1,"2a","2b","3a","3b","4a","4b",5,"6a","6b","6c",null,null,null,null,null,null,null,null,"SUM \nDEL 1"]
[null,null,null,"Poeng",2,2,2,2,2,2,2,2,2,2,2,null,null,null,null,null,null,null,null,{"$f":"SUM(E6:O6)","v":22},"TOTALT"]
[null,null,null,"Sensors\npoeng",null,null,null,null,null,null,null,null,null,null,null,null,null,null,null,null,null,null,null,{"$f":"SUM(E7:O7)","v":0},{"$f":"X7+X10","v":0}]
[null,null,"Del 2","Oppgave","1a","1b","2a","2b","2c","3a","3b","3c","4a","4b","4c","5a","5b",null,null,null,null,null,null,"SUM \nDEL 2","AV"]
[null,null,null,"Poeng",2,2,2,2,2,2,2,2,2,2,2,2,2,null,null,null,null,null,null,{"$f":"SUM(E9:S9)","v":26},{"$f":"X6+X9","v":48}]
[null,null,null,"Sensors\npoeng",null,null,null,null,null,null,null,null,null,null,null,null,null,null,null,null,null,null,null,{"$f":"SUM(E10:S10)","v":0}]
[null,"SAMLET VURDERING (Se Eksamensveiledning LK20 )"]
[null,"Kompetanse",null,null,2,"3/4","5/6","Kommentarer:"]
[null,"Begreper og ferdigheter"]
[null,"Sammenhenger og anvendelser"]
[null,"Utforsking og problemløsing"]
[null,"Resonnering og kommunikasjon"]
[]
[null,"Karakterforslag"]
[null,"Eget karakterforslag"]
[null,"Medsensors forslag"]
[null,"Endelig karakter"]

{"sheet":"K7","index":7,"n_rows":21,"n_cols":25,"rows_kept":21,"cut":false,"hidden":false,"merged":[[0,1,0,24],[18,1,18,3],[19,1,19,3],[4,2,6,2],[10,1,10,13],[11,1,11,3],[12,1,12,3],[12,7,20,24],[13,1,13,3],[14,1,14,3],[15,1,15,3]]}
[null,"VURDERINGSSKJEMA for sentralt gitt skriftlig eksamen i  REA3062 Matematikk S2"]
[]
[null,"Fagkode:","REA3062",null,"Fagnavn:",null,"Matematikk S2",null,null,null,"Gruppe:",null,null,null,null,null,null,null,"Sensor:"]
[]
[null,"Kand.nr:","Del 1","Oppgave",1,"2a","2b","3a","3b","4a","4b",5,"6a","6b","6c",null,null,null,null,null,null,null,null,"SUM \nDEL 1"]
[null,null,null,"Poeng",2,2,2,2,2,2,2,2,2,2,2,null,null,null,null,null,null,null,null,{"$f":"SUM(E6:O6)","v":22},"TOTALT"]
[null,null,null,"Sensors\npoeng",null,null,null,null,null,null,null,null,null,null,null,null,null,null,null,null,null,null,null,{"$f":"SUM(E7:O7)","v":0},{"$f":"X7+X10","v":0}]
[null,null,"Del 2","Oppgave","1a","1b","2a","2b","2c","3a","3b","3c","4a","4b","4c","5a","5b",null,null,null,null,null,null,"SUM \nDEL 2","AV"]
[null,null,null,"Poeng",2,2,2,2,2,2,2,2,2,2,2,2,2,null,null,null,null,null,null,{"$f":"SUM(E9:S9)","v":26},{"$f":"X6+X9","v":48}]
[null,null,null,"Sensors\npoeng",null,null,null,null,null,null,null,null,null,null,null,null,null,null,null,null,null,null,null,{"$f":"SUM(E10:S10)","v":0}]
[null,"SAMLET VURDERING (Se Eksamensveiledning LK20 )"]
[null,"Kompetanse",null,null,2,"3/4","5/6","Kommentarer:"]
[null,"Begreper og ferdigheter"]
[null,"Sammenhenger og anvendelser"]
[null,"Utforsking og problemløsing"]
[null,"Resonnering og kommunikasjon"]
[]
[null,"Karakterforslag"]
[null,"Eget karakterforslag"]
[null,"Medsensors forslag"]
[null,"Endelig karakter"]

{"sheet":"K8","index":8,"n_rows":21,"n_cols":25,"rows_kept":21,"cut":false,"hidden":false,"merged":[[18,1,18,3],[19,1,19,3],[4,2,6,2],[10,1,10,13],[11,1,11,3],[12,1,12,3],[12,7,20,24],[13,1,13,3],[14,1,14,3],[15,1,15,3]]}
[null,"VURDERINGSSKJEMA for sentralt gitt skriftlig eksamen i  REA3062 Matematikk S2"]
[]
[null,"Fagkode:","REA3062",null,"Fagnavn:",null,"Matematikk S2",null,null,null,"Gruppe:",null,null,null,null,null,null,null,"Sensor:"]
[]
[null,"Kand.nr:","Del 1","Oppgave",1,"2a","2b","3a","3b","4a","4b",5,"6a","6b","6c",null,null,null,null,null,null,null,null,"SUM \nDEL 1"]
[null,null,null,"Poeng",2,2,2,2,2,2,2,2,2,2,2,null,null,null,null,null,null,null,null,{"$f":"SUM(E6:O6)","v":22},"TOTALT"]
[null,null,null,"Sensors\npoeng",null,null,null,null,null,null,null,null,null,null,null,null,null,null,null,null,null,null,null,{"$f":"SUM(E7:O7)","v":0},{"$f":"X7+X10","v":0}]
[null,null,"Del 2","Oppgave","1a","1b","2a","2b","2c","3a","3b","3c","4a","4b","4c","5a","5b",null,null,null,null,null,null,"SUM \nDEL 2","AV"]
[null,null,null,"Poeng",2,2,2,2,2,2,2,2,2,2,2,2,2,null,null,null,null,null,null,{"$f":"SUM(E9:S9)","v":26},{"$f":"X6+X9","v":48}]
[null,null,null,"Sensors\npoeng",null,null,null,null,null,null,null,null,null,null,null,null,null,null,null,null,null,null,null,{"$f":"SUM(E10:S10)","v":0}]
[null,"SAMLET VURDERING (Se Eksamensveiledning LK20 )"]
[null,"Kompetanse",null,null,2,"3/4","5/6","Kommentarer:"]
[null,"Begreper og ferdigheter"]
[null,"Sammenhenger og anvendelser"]
[null,"Utforsking og problemløsing"]
[null,"Resonnering og kommunikasjon"]
[]
[null,"Karakterforslag"]
[null,"Eget karakterforslag"]
[null,"Medsensors forslag"]
[null,"Endelig karakter"]

{"sheet":"K9","index":9,"n_rows":21,"n_cols":25,"rows_kept":21,"cut":false,"hidden":false,"merged":[[18,1,18,3],[19,1,19,3],[4,2,6,2],[10,1,10,13],[11,1,11,3],[12,1,12,3],[12,7,20,24],[13,1,13,3],[14,1,14,3],[15,1,15,3]]}
[null,"VURDERINGSSKJEMA for sentralt gitt skriftlig eksamen i  REA3062 Matematikk S2"]
[]
[null,"Fagkode:","REA3062",null,"Fagnavn:",null,"Matematikk S2",null,null,null,"Gruppe:",null,null,null,null,null,null,null,"Sensor:"]
[]
[null,"Kand.nr:","Del 1","Oppgave",1,"2a","2b","3a","3b","4a","4b",5,"6a","6b","6c",null,null,null,null,null,null,null,null,"SUM \nDEL 1"]
[null,null,null,"Poeng",2,2,2,2,2,2,2,2,2,2,2,null,null,null,null,null,null,null,null,{"$f":"SUM(E6:O6)","v":22},"TOTALT"]
[null,null,null,"Sensors\npoeng",null,null,null,null,null,null,null,null,null,null,null,null,null,null,null,null,null,null,null,{"$f":"SUM(E7:O7)","v":0},{"$f":"X7+X10","v":0}]
[null,null,"Del 2","Oppgave","1a","1b","2a","2b","2c","3a","3b","3c","4a","4b","4c","5a","5b",null,null,null,null,null,null,"SUM \nDEL 2","AV"]
[null,null,null,"Poeng",2,2,2,2,2,2,2,2,2,2,2,2,2,null,null,null,null,null,null,{"$f":"SUM(E9:S9)","v":26},{"$f":"X6+X9","v":48}]
[null,null,null,"Sensors\npoeng",null,null,null,null,null,null,null,null,null,null,null,null,null,null,null,null,null,null,null,{"$f":"SUM(E10:S10)","v":0}]
[null,"SAMLET VURDERING (Se Eksamensveiledning LK20 )"]
[null,"Kompetanse",null,null,2,"3/4","5/6","Kommentarer:"]
[null,"Begreper og ferdigheter"]
[null,"Sammenhenger og anvendelser"]
[null,"Utforsking og problemløsing"]
[null,"Resonnering og kommunikasjon"]
[]
[null,"Karakterforslag"]
[null,"Eget karakterforslag"]
[null,"Medsensors forslag"]
[null,"Endelig karakter"]

{"sheet":"K10","index":10,"n_rows":21,"n_cols":25,"rows_kept":21,"cut":false,"hidden":false,"merged":[[18,1,18,3],[19,1,19,3],[4,2,6,2],[10,1,10,13],[11,1,11,3],[12,1,12,3],[12,7,20,24],[13,1,13,3],[14,1,14,3],[15,1,15,3]]}
[null,"VURDERINGSSKJEMA for sentralt gitt skriftlig eksamen i  REA3062 Matematikk S2"]
[]
[null,"Fagkode:","REA3062",null,"Fagnavn:",null,"Matematikk S2",null,null,null,"Gruppe:",null,null,null,null,null,null,null,"Sensor:"]
[]
[null,"Kand.nr:","Del 1","Oppgave",1,"2a","2b","3a","3b","4a","4b",5,"6a","6b","6c",null,null,null,null,null,null,null,null,"SUM \nDEL 1"]
[null,null,null,"Poeng",2,2,2,2,2,2,2,2,2,2,2,null,null,null,null,null,null,null,null,{"$f":"SUM(E6:O6)","v":22},"TOTALT"]
[null,null,null,"Sensors\npoeng",null,null,null,null,null,null,null,null,null,null,null,null,null,null,null,null,null,null,null,{"$f":"SUM(E7:O7)","v":0},{"$f":"X7+X10","v":0}]
[null,null,"Del 2","Oppgave","1a","1b","2a","2b","2c","3a","3b","3c","4a","4b","4c","5a","5b",null,null,null,null,null,null,"SUM \nDEL 2","AV"]
[null,null,null,"Poeng",2,2,2,2,2,2,2,2,2,2,2,2,2,null,null,null,null,null,null,{"$f":"SUM(E9:S9)","v":26},{"$f":"X6+X9","v":48}]
[null,null,null,"Sensors\npoeng",null,null,null,null,null,null,null,null,null,null,null,null,null,null,null,null,null,null,null,{"$f":"SUM(E10:S10)","v":0}]
[null,"SAMLET VURDERING (Se Eksamensveiledning LK20 )"]
[null,"Kompetanse",null,null,2,"3/4","5/6","Kommentarer:"]
[null,"Begreper og ferdigheter"]
[null,"Sammenhenger og anvendelser"]
[null,"Utforsking og problemløsing"]
[null,"Resonnering og kommunikasjon"]
[]
[null,"Karakterforslag"]
[null,"Eget karakterforslag"]
[null,"Medsensors forslag"]
[null,"Endelig karakter"]

{"sheet":"K11","index":11,"n_rows":21,"n_cols":25,"rows_kept":21,"cut":false,"hidden":false,"merged":[[18,1,18,3],[19,1,19,3],[4,2,6,2],[10,1,10,13],[11,1,11,3],[12,1,12,3],[12,7,20,24],[13,1,13,3],[14,1,14,3],[15,1,15,3]]}
[null,"VURDERINGSSKJEMA for sentralt gitt skriftlig eksamen i  REA3062 Matematikk S2"]
[]
[null,"Fagkode:","REA3062",null,"Fagnavn:",null,"Matematikk S2",null,null,null,"Gruppe:",null,null,null,null,null,null,null,"Sensor:"]
[]
[null,"Kand.nr:","Del 1","Oppgave",1,"2a","2b","3a","3b","4a","4b",5,"6a","6b","6c",null,null,null,null,null,null,null,null,"SUM \nDEL 1"]
[null,null,null,"Poeng",2,2,2,2,2,2,2,2,2,2,2,null,null,null,null,null,null,null,null,{"$f":"SUM(E6:O6)","v":22},"TOTALT"]
[null,null,null,"Sensors\npoeng",null,null,null,null,null,null,null,null,null,null,null,null,null,null,null,null,null,null,null,{"$f":"SUM(E7:O7)","v":0},{"$f":"X7+X10","v":0}]
[null,null,"Del 2","Oppgave","1a","1b","2a","2b","2c","3a","3b","3c","4a","4b","4c","5a","5b",null,null,null,null,null,null,"SUM \nDEL 2","AV"]
[null,null,null,"Poeng",2,2,2,2,2,2,2,2,2,2,2,2,2,null,null,null,null,null,null,{"$f":"SUM(E9:S9)","v":26},{"$f":"X6+X9","v":48}]
[null,null,null,"Sensors\npoeng",null,null,null,null,null,null,null,null,null,null,null,null,null,null,null,null,null,null,null,{"$f":"SUM(E10:S10)","v":0}]
[null,"SAMLET VURDERING (Se Eksamensveiledning LK20 )"]
[null,"Kompetanse",null,null,2,"3/4","5/6","Kommentarer:"]
[null,"Begreper og ferdigheter"]
[null,"Sammenhenger og anvendelser"]
[null,"Utforsking og problemløsing"]
[null,"Resonnering og kommunikasjon"]
[]
[null,"Karakterforslag"]
[null,"Eget karakterforslag"]
[null,"Medsensors forslag"]
[null,"Endelig karakter"]

{"sheet":"K12","index":12,"n_rows":21,"n_cols":25,"rows_kept":21,"cut":false,"hidden":false,"merged":[[18,1,18,3],[19,1,19,3],[4,2,6,2],[10,1,10,13],[11,1,11,3],[12,1,12,3],[12,7,20,24],[13,1,13,3],[14,1,14,3],[15,1,15,3]]}
[null,"VURDERINGSSKJEMA for sentralt gitt skriftlig eksamen i  REA3062 Matematikk S2"]
[]
[null,"Fagkode:","REA3062",null,"Fagnavn:",null,"Matematikk S2",null,null,null,"Gruppe:",null,null,null,null,null,null,null,"Sensor:"]
[]
[null,"Kand.nr:","Del 1","Oppgave",1,"2a","2b","3a","3b","4a","4b",5,"6a","6b","6c",null,null,null,null,null,null,null,null,"SUM \nDEL 1"]
[null,null,null,"Poeng",2,2,2,2,2,2,2,2,2,2,2,null,null,null,null,null,null,null,null,{"$f":"SUM(E6:O6)","v":22},"TOTALT"]
[null,null,null,"Sensors\npoeng",null,null,null,null,null,null,null,null,null,null,null,null,null,null,null,null,null,null,null,{"$f":"SUM(E7:O7)","v":0},{"$f":"X7+X10","v":0}]
[null,null,"Del 2","Oppgave","1a","1b","2a","2b","2c","3a","3b","3c","4a","4b","4c","5a","5b",null,null,null,null,null,null,"SUM \nDEL 2","AV"]
[null,null,null,"Poeng",2,2,2,2,2,2,2,2,2,2,2,2,2,null,null,null,null,null,null,{"$f":"SUM(E9:S9)","v":26},{"$f":"X6+X9","v":48}]
[null,null,null,"Sensors\npoeng",null,null,null,null,null,null,null,null,null,null,null,null,null,null,null,null,null,null,null,{"$f":"SUM(E10:S10)","v":0}]
[null,"SAMLET VURDERING (Se Eksamensveiledning LK20 )"]
[null,"Kompetanse",null,null,2,"3/4","5/6","Kommentarer:"]
[null,"Begreper og ferdigheter"]
[null,"Sammenhenger og anvendelser"]
[null,"Utforsking og problemløsing"]
[null,"Resonnering og kommunikasjon"]
[]
[null,"Karakterforslag"]
[null,"Eget karakterforslag"]
[null,"Medsensors forslag"]
[null,"Endelig karakter"]

{"sheet":"K13","index":13,"n_rows":21,"n_cols":25,"rows_kept":21,"cut":false,"hidden":false,"merged":[[0,1,0,24],[18,1,18,3],[19,1,19,3],[4,2,6,2],[10,1,10,13],[11,1,11,3],[12,1,12,3],[12,7,20,24],[13,1,13,3],[14,1,14,3],[15,1,15,3]]}
[null,"VURDERINGSSKJEMA for sentralt gitt skriftlig eksamen i  REA3062 Matematikk S2"]
[]
[null,"Fagkode:","REA3062",null,"Fagnavn:",null,"Matematikk S2",null,null,null,"Gruppe:",null,null,null,null,null,null,null,"Sensor:"]
[]
[null,"Kand.nr:","Del 1","Oppgave",1,"2a","2b","3a","3b","4a","4b",5,"6a","6b","6c",null,null,null,null,null,null,null,null,"SUM \nDEL 1"]
[null,null,null,"Poeng",2,2,2,2,2,2,2,2,2,2,2,null,null,null,null,null,null,null,null,{"$f":"SUM(E6:O6)","v":22},"TOTALT"]
[null,null,null,"Sensors\npoeng",null,null,null,null,null,null,null,null,null,null,null,null,null,null,null,null,null,null,null,{"$f":"SUM(E7:O7)","v":0},{"$f":"X7+X10","v":0}]
[null,null,"Del 2","Oppgave","1a","1b","2a","2b","2c","3a","3b","3c","4a","4b","4c","5a","5b",null,null,null,null,null,null,"SUM \nDEL 2","AV"]
[null,null,null,"Poeng",2,2,2,2,2,2,2,2,2,2,2,2,2,null,null,null,null,null,null,{"$f":"SUM(E9:S9)","v":26},{"$f":"X6+X9","v":48}]
[null,null,null,"Sensors\npoeng",null,null,null,null,null,null,null,null,null,null,null,null,null,null,null,null,null,null,null,{"$f":"SUM(E10:S10)","v":0}]
[null,"SAMLET VURDERING (Se Eksamensveiledning LK20 )"]
[null,"Kompetanse",null,null,2,"3/4","5/6","Kommentarer:"]
[null,"Begreper og ferdigheter"]
[null,"Sammenhenger og anvendelser"]
[null,"Utforsking og problemløsing"]
[null,"Resonnering og kommunikasjon"]
[]
[null,"Karakterforslag"]
[null,"Eget karakterforslag"]
[null,"Medsensors forslag"]
[null,"Endelig karakter"]

{"sheet":"K14","index":14,"n_rows":21,"n_cols":25,"rows_kept":21,"cut":false,"hidden":false,"merged":[[0,1,0,24],[18,1,18,3],[19,1,19,3],[4,2,6,2],[10,1,10,13],[11,1,11,3],[12,1,12,3],[12,7,20,24],[13,1,13,3],[14,1,14,3],[15,1,15,3]]}
[null,"VURDERINGSSKJEMA for sentralt gitt skriftlig eksamen i  REA3062 Matematikk S2"]
[]
[null,"Fagkode:","REA3062",null,"Fagnavn:",null,"Matematikk S2",null,null,null,"Gruppe:",null,null,null,null,null,null,null,"Sensor:"]
[]
[null,"Kand.nr:","Del 1","Oppgave",1,"2a","2b","3a","3b","4a","4b",5,"6a","6b","6c",null,null,null,null,null,null,null,null,"SUM \nDEL 1"]
[null,null,null,"Poeng",2,2,2,2,2,2,2,2,2,2,2,null,null,null,null,null,null,null,null,{"$f":"SUM(E6:O6)","v":22},"TOTALT"]
[null,null,null,"Sensors\npoeng",null,null,null,null,null,null,null,null,null,null,null,null,null,null,null,null,null,null,null,{"$f":"SUM(E7:O7)","v":0},{"$f":"X7+X10","v":0}]
[null,null,"Del 2","Oppgave","1a","1b","2a","2b","2c","3a","3b","3c","4a","4b","4c","5a","5b",null,null,null,null,null,null,"SUM \nDEL 2","AV"]
[null,null,null,"Poeng",2,2,2,2,2,2,2,2,2,2,2,2,2,null,null,null,null,null,null,{"$f":"SUM(E9:S9)","v":26},{"$f":"X6+X9","v":48}]
[null,null,null,"Sensors\npoeng",null,null,null,null,null,null,null,null,null,null,null,null,null,null,null,null,null,null,null,{"$f":"SUM(E10:S10)","v":0}]
[null,"SAMLET VURDERING (Se Eksamensveiledning LK20 )"]
[null,"Kompetanse",null,null,2,"3/4","5/6","Kommentarer:"]
[null,"Begreper og ferdigheter"]
[null,"Sammenhenger og anvendelser"]
[null,"Utforsking og problemløsing"]
[null,"Resonnering og kommunikasjon"]
[]
[null,"Karakterforslag"]
[null,"Eget karakterforslag"]
[null,"Medsensors forslag"]
[null,"Endelig karakter"]

{"sheet":"K15","index":15,"n_rows":21,"n_cols":25,"rows_kept":21,"cut":false,"hidden":false,"merged":[[18,1,18,3],[19,1,19,3],[4,2,6,2],[10,1,10,13],[11,1,11,3],[12,1,12,3],[12,7,20,24],[13,1,13,3],[14,1,14,3],[15,1,15,3]]}
[null,"VURDERINGSSKJEMA for sentralt gitt skriftlig eksamen i  REA3062 Matematikk S2"]
[]
[null,"Fagkode:","REA3062",null,"Fagnavn:",null,"Matematikk S2",null,null,null,"Gruppe:",null,null,null,null,null,null,null,"Sensor:"]
[]
[null,"Kand.nr:","Del 1","Oppgave",1,"2a","2b","3a","3b","4a","4b",5,"6a","6b","6c",null,null,null,null,null,null,null,null,"SUM \nDEL 1"]
[null,null,null,"Poeng",2,2,2,2,2,2,2,2,2,2,2,null,null,null,null,null,null,null,null,{"$f":"SUM(E6:O6)","v":22},"TOTALT"]
[null,null,null,"Sensors\npoeng",null,null,null,null,null,null,null,null,null,null,null,null,null,null,null,null,null,null,null,{"$f":"SUM(E7:O7)","v":0},{"$f":"X7+X10","v":0}]
[null,null,"Del 2","Oppgave","1a","1b","2a","2b","2c","3a","3b","3c","4a","4b","4c","5a","5b",null,null,null,null,null,null,"SUM \nDEL 2","AV"]
[null,null,null,"Poeng",2,2,2,2,2,2,2,2,2,2,2,2,2,null,null,null,null,null,null,{"$f":"SUM(E9:S9)","v":26},{"$f":"X6+X9","v":48}]
[null,null,null,"Sensors\npoeng",null,null,null,null,null,null,null,null,null,null,null,null,null,null,null,null,null,null,null,{"$f":"SUM(E10:S10)","v":0}]
[null,"SAMLET VURDERING (Se Eksamensveiledning LK20 )"]
[null,"Kompetanse",null,null,2,"3/4","5/6","Kommentarer:"]
[null,"Begreper og ferdigheter"]
[null,"Sammenhenger og anvendelser"]
[null,"Utforsking og problemløsing"]
[null,"Resonnering og kommunikasjon"]
[]
[null,"Karakterforslag"]
[null,"Eget karakterforslag"]
[null,"Medsensors forslag"]
[null,"Endelig karakter"]

{"sheet":"K16","index":16,"n_rows":21,"n_cols":25,"rows_kept":21,"cut":false,"hidden":false,"merged":[[0,1,0,24],[18,1,18,3],[19,1,19,3],[4,2,6,2],[10,1,10,13],[11,1,11,3],[12,1,12,3],[12,7,20,24],[13,1,13,3],[14,1,14,3],[15,1,15,3]]}
[null,"VURDERINGSSKJEMA for sentralt gitt skriftlig eksamen i  REA3062 Matematikk S2"]
[]
[null,"Fagkode:","REA3062",null,"Fagnavn:",null,"Matematikk S2",null,null,null,"Gruppe:",null,null,null,null,null,null,null,"Sensor:"]
[]
[null,"Kand.nr:","Del 1","Oppgave",1,"2a","2b","3a","3b","4a","4b",5,"6a","6b","6c",null,null,null,null,null,null,null,null,"SUM \nDEL 1"]
[null,null,null,"Poeng",2,2,2,2,2,2,2,2,2,2,2,null,null,null,null,null,null,null,null,{"$f":"SUM(E6:O6)","v":22},"TOTALT"]
[null,null,null,"Sensors\npoeng",null,null,null,null,null,null,null,null,null,null,null,null,null,null,null,null,null,null,null,{"$f":"SUM(E7:O7)","v":0},{"$f":"X7+X10","v":0}]
[null,null,"Del 2","Oppgave","1a","1b","2a","2b","2c","3a","3b","3c","4a","4b","4c","5a","5b",null,null,null,null,null,null,"SUM \nDEL 2","AV"]
[null,null,null,"Poeng",2,2,2,2,2,2,2,2,2,2,2,2,2,null,null,null,null,null,null,{"$f":"SUM(E9:S9)","v":26},{"$f":"X6+X9","v":48}]
[null,null,null,"Sensors\npoeng",null,null,null,null,null,null,null,null,null,null,null,null,null,null,null,null,null,null,null,{"$f":"SUM(E10:S10)","v":0}]
[null,"SAMLET VURDERING (Se Eksamensveiledning LK20 )"]
[null,"Kompetanse",null,null,2,"3/4","5/6","Kommentarer:"]
[null,"Begreper og ferdigheter"]
[null,"Sammenhenger og anvendelser"]
[null,"Utforsking og problemløsing"]
[null,"Resonnering og kommunikasjon"]
[]
[null,"Karakterforslag"]
[null,"Eget karakterforslag"]
[null,"Medsensors forslag"]
[null,"Endelig karakter"]

{"sheet":"K17","index":17,"n_rows":21,"n_cols":25,"rows_kept":21,"cut":false,"hidden":false,"merged":[[0,1,0,24],[18,1,18,3],[19,1,19,3],[4,2,6,2],[10,1,10,13],[11,1,11,3],[12,1,12,3],[12,7,20,24],[13,1,13,3],[14,1,14,3],[15,1,15,3]]}
[null,"VURDERINGSSKJEMA for sentralt gitt skriftlig eksamen i  REA3062 Matematikk S2"]
[]
[null,"Fagkode:","REA3062",null,"Fagnavn:",null,"Matematikk S2",null,null,null,"Gruppe:",null,null,null,null,null,null,null,"Sensor:"]
[]
[null,"Kand.nr:","Del 1","Oppgave",1,"2a","2b","3a","3b","4a","4b",5,"6a","6b","6c",null,null,null,null,null,null,null,null,"SUM \nDEL 1"]
[null,null,null,"Poeng",2,2,2,2,2,2,2,2,2,2,2,null,null,null,null,null,null,null,null,{"$f":"SUM(E6:O6)","v":22},"TOTALT"]
[null,null,null,"Sensors\npoeng",null,null,null,null,null,null,null,null,null,null,null,null,null,null,null,null,null,null,null,{"$f":"SUM(E7:O7)","v":0},{"$f":"X7+X10","v":0}]
[null,null,"Del 2","Oppgave","1a","1b","2a","2b","2c","3a","3b","3c","4a","4b","4c","5a","5b",null,null,null,null,null,null,"SUM \nDEL 2","AV"]
[null,null,null,"Poeng",2,2,2,2,2,2,2,2,2,2,2,2,2,null,null,null,null,null,null,{"$f":"SUM(E9:S9)","v":26},{"$f":"X6+X9","v":48}]
[null,null,null,"Sensors\npoeng",null,null,null,null,null,null,null,null,null,null,null,null,null,null,null,null,null,null,null,{"$f":"SUM(E10:S10)","v":0}]
[null,"SAMLET VURDERING (Se Eksamensveiledning LK20 )"]
[null,"Kompetanse",null,null,2,"3/4","5/6","Kommentarer:"]
[null,"Begreper og ferdigheter"]
[null,"Sammenhenger og anvendelser"]
[null,"Utforsking og problemløsing"]
[null,"Resonnering og kommunikasjon"]
[]
[null,"Karakterforslag"]
[null,"Eget karakterforslag"]
[null,"Medsensors forslag"]
[null,"Endelig karakter"]

{"sheet":"K18","index":18,"n_rows":21,"n_cols":25,"rows_kept":21,"cut":false,"hidden":false,"merged":[[0,1,0,24],[18,1,18,3],[19,1,19,3],[4,2,6,2],[10,1,10,13],[11,1,11,3],[12,1,12,3],[12,7,20,24],[13,1,13,3],[14,1,14,3],[15,1,15,3]]}
[null,"VURDERINGSSKJEMA for sentralt gitt skriftlig eksamen i  REA3062 Matematikk S2"]
[]
[null,"Fagkode:","REA3062",null,"Fagnavn:",null,"Matematikk S2",null,null,null,"Gruppe:",null,null,null,null,null,null,null,"Sensor:"]
[]
[null,"Kand.nr:","Del 1","Oppgave",1,"2a","2b","3a","3b","4a","4b",5,"6a","6b","6c",null,null,null,null,null,null,null,null,"SUM \nDEL 1"]
[null,null,null,"Poeng",2,2,2,2,2,2,2,2,2,2,2,null,null,null,null,null,null,null,null,{"$f":"SUM(E6:O6)","v":22},"TOTALT"]
[null,null,null,"Sensors\npoeng",null,null,null,null,null,null,null,null,null,null,null,null,null,null,null,null,null,null,null,{"$f":"SUM(E7:O7)","v":0},{"$f":"X7+X10","v":0}]
[null,null,"Del 2","Oppgave","1a","1b","2a","2b","2c","3a","3b","3c","4a","4b","4c","5a","5b",null,null,null,null,null,null,"SUM \nDEL 2","AV"]
[null,null,null,"Poeng",2,2,2,2,2,2,2,2,2,2,2,2,2,null,null,null,null,null,null,{"$f":"SUM(E9:S9)","v":26},{"$f":"X6+X9","v":48}]
[null,null,null,"Sensors\npoeng",null,null,null,null,null,null,null,null,null,null,null,null,null,null,null,null,null,null,null,{"$f":"SUM(E10:S10)","v":0}]
[null,"SAMLET VURDERING (Se Eksamensveiledning LK20 )"]
[null,"Kompetanse",null,null,2,"3/4","5/6","Kommentarer:"]
[null,"Begreper og ferdigheter"]
[null,"Sammenhenger og anvendelser"]
[null,"Utforsking og problemløsing"]
[null,"Resonnering og kommunikasjon"]
[]
[null,"Karakterforslag"]
[null,"Eget karakterforslag"]
[null,"Medsensors forslag"]
[null,"Endelig karakter"]

{"sheet":"K19","index":19,"n_rows":21,"n_cols":25,"rows_kept":21,"cut":false,"hidden":false,"merged":[[0,1,0,24],[18,1,18,3],[19,1,19,3],[4,2,6,2],[10,1,10,13],[11,1,11,3],[12,1,12,3],[12,7,20,24],[13,1,13,3],[14,1,14,3],[15,1,15,3]]}
[null,"VURDERINGSSKJEMA for sentralt gitt skriftlig eksamen i  REA3062 Matematikk S2"]
[]
[null,"Fagkode:","REA3062",null,"Fagnavn:",null,"Matematikk S2",null,null,null,"Gruppe:",null,null,null,null,null,null,null,"Sensor:"]
[]
[null,"Kand.nr:","Del 1","Oppgave",1,"2a","2b","3a","3b","4a","4b",5,"6a","6b","6c",null,null,null,null,null,null,null,null,"SUM \nDEL 1"]
[null,null,null,"Poeng",2,2,2,2,2,2,2,2,2,2,2,null,null,null,null,null,null,null,null,{"$f":"SUM(E6:O6)","v":22},"TOTALT"]
[null,null,null,"Sensors\npoeng",null,null,null,null,null,null,null,null,null,null,null,null,null,null,null,null,null,null,null,{"$f":"SUM(E7:O7)","v":0},{"$f":"X7+X10","v":0}]
[null,null,"Del 2","Oppgave","1a","1b","2a","2b","2c","3a","3b","3c","4a","4b","4c","5a","5b",null,null,null,null,null,null,"SUM \nDEL 2","AV"]
[null,null,null,"Poeng",2,2,2,2,2,2,2,2,2,2,2,2,2,null,null,null,null,null,null,{"$f":"SUM(E9:S9)","v":26},{"$f":"X6+X9","v":48}]
[null,null,null,"Sensors\npoeng",null,null,null,null,null,null,null,null,null,null,null,null,null,null,null,null,null,null,null,{"$f":"SUM(E10:S10)","v":0}]
[null,"SAMLET VURDERING (Se Eksamensveiledning LK20 )"]
[null,"Kompetanse",null,null,2,"3/4","5/6","Kommentarer:"]
[null,"Begreper og ferdigheter"]
[null,"Sammenhenger og anvendelser"]
[null,"Utforsking og problemløsing"]
[null,"Resonnering og kommunikasjon"]
[]
[null,"Karakterforslag"]
[null,"Eget karakterforslag"]
[null,"Medsensors forslag"]
[null,"Endelig karakter"]

{"sheet":"K20","index":20,"n_rows":21,"n_cols":25,"rows_kept":21,"cut":false,"hidden":false,"merged":[[0,1,0,24],[18,1,18,3],[19,1,19,3],[4,2,6,2],[10,1,10,13],[11,1,11,3],[12,1,12,3],[12,7,20,24],[13,1,13,3],[14,1,14,3],[15,1,15,3]]}
[null,"VURDERINGSSKJEMA for sentralt gitt skriftlig eksamen i  REA3062 Matematikk S2"]
[]
[null,"Fagkode:","REA3062",null,"Fagnavn:",null,"Matematikk S2",null,null,null,"Gruppe:",null,null,null,null,null,null,null,"Sensor:"]
[]
[null,"Kand.nr:","Del 1","Oppgave",1,"2a","2b","3a","3b","4a","4b",5,"6a","6b","6c",null,null,null,null,null,null,null,null,"SUM \nDEL 1"]
[null,null,null,"Poeng",2,2,2,2,2,2,2,2,2,2,2,null,null,null,null,null,null,null,null,{"$f":"SUM(E6:O6)","v":22},"TOTALT"]
[null,null,null,"Sensors\npoeng",null,null,null,null,null,null,null,null,null,null,null,null,null,null,null,null,null,null,null,{"$f":"SUM(E7:O7)","v":0},{"$f":"X7+X10","v":0}]
[null,null,"Del 2","Oppgave","1a","1b","2a","2b","2c","3a","3b","3c","4a","4b","4c","5a","5b",null,null,null,null,null,null,"SUM \nDEL 2","AV"]
[null,null,null,"Poeng",2,2,2,2,2,2,2,2,2,2,2,2,2,null,null,null,null,null,null,{"$f":"SUM(E9:S9)","v":26},{"$f":"X6+X9","v":48}]
[null,null,null,"Sensors\npoeng",null,null,null,null,null,null,null,null,null,null,null,null,null,null,null,null,null,null,null,{"$f":"SUM(E10:S10)","v":0}]
[null,"SAMLET VURDERING (Se Eksamensveiledning LK20 )"]
[null,"Kompetanse",null,null,2,"3/4","5/6","Kommentarer:"]
[null,"Begreper og ferdigheter"]
[null,"Sammenhenger og anvendelser"]
[null,"Utforsking og problemløsing"]
[null,"Resonnering og kommunikasjon"]
[]
[null,"Karakterforslag"]
[null,"Eget karakterforslag"]
[null,"Medsensors forslag"]
[null,"Endelig karakter"]

{"sheet":"K21","index":21,"n_rows":21,"n_cols":25,"rows_kept":21,"cut":false,"hidden":false,"merged":[[0,1,0,24],[18,1,18,3],[19,1,19,3],[4,2,6,2],[10,1,10,13],[11,1,11,3],[12,1,12,3],[12,7,20,24],[13,1,13,3],[14,1,14,3],[15,1,15,3]]}
[null,"VURDERINGSSKJEMA for sentralt gitt skriftlig eksamen i  REA3062 Matematikk S2"]
[]
[null,"Fagkode:","REA3062",null,"Fagnavn:",null,"Matematikk S2",null,null,null,"Gruppe:",null,null,null,null,null,null,null,"Sensor:"]
[]
[null,"Kand.nr:","Del 1","Oppgave",1,"2a","2b","3a","3b","4a","4b",5,"6a","6b","6c",null,null,null,null,null,null,null,null,"SUM \nDEL 1"]
[null,null,null,"Poeng",2,2,2,2,2,2,2,2,2,2,2,null,null,null,null,null,null,null,null,{"$f":"SUM(E6:O6)","v":22},"TOTALT"]
[null,null,null,"Sensors\npoeng",null,null,null,null,null,null,null,null,null,null,null,null,null,null,null,null,null,null,null,{"$f":"SUM(E7:O7)","v":0},{"$f":"X7+X10","v":0}]
[null,null,"Del 2","Oppgave","1a","1b","2a","2b","2c","3a","3b","3c","4a","4b","4c","5a","5b",null,null,null,null,null,null,"SUM \nDEL 2","AV"]
[null,null,null,"Poeng",2,2,2,2,2,2,2,2,2,2,2,2,2,null,null,null,null,null,null,{"$f":"SUM(E9:S9)","v":26},{"$f":"X6+X9","v":48}]
[null,null,null,"Sensors\npoeng",null,null,null,null,null,null,null,null,null,null,null,null,null,null,null,null,null,null,null,{"$f":"SUM(E10:S10)","v":0}]
[null,"SAMLET VURDERING (Se Eksamensveiledning LK20 )"]
[null,"Kompetanse",null,null,2,"3/4","5/6","Kommentarer:"]
[null,"Begreper og ferdigheter"]
[null,"Sammenhenger og anvendelser"]
[null,"Utforsking og problemløsing"]
[null,"Resonnering og kommunikasjon"]
[]
[null,"Karakterforslag"]
[null,"Eget karakterforslag"]
[null,"Medsensors forslag"]
[null,"Endelig karakter"]

{"sheet":"K22","index":22,"n_rows":21,"n_cols":25,"rows_kept":21,"cut":false,"hidden":false,"merged":[[0,1,0,24],[18,1,18,3],[19,1,19,3],[4,2,6,2],[10,1,10,13],[11,1,11,3],[12,1,12,3],[12,7,20,24],[13,1,13,3],[14,1,14,3],[15,1,15,3]]}
[null,"VURDERINGSSKJEMA for sentralt gitt skriftlig eksamen i  REA3062 Matematikk S2"]
[]
[null,"Fagkode:","REA3062",null,"Fagnavn:",null,"Matematikk S2",null,null,null,"Gruppe:",null,null,null,null,null,null,null,"Sensor:"]
[]
[null,"Kand.nr:","Del 1","Oppgave",1,"2a","2b","3a","3b","4a","4b",5,"6a","6b","6c",null,null,null,null,null,null,null,null,"SUM \nDEL 1"]
[null,null,null,"Poeng",2,2,2,2,2,2,2,2,2,2,2,null,null,null,null,null,null,null,null,{"$f":"SUM(E6:O6)","v":22},"TOTALT"]
[null,null,null,"Sensors\npoeng",null,null,null,null,null,null,null,null,null,null,null,null,null,null,null,null,null,null,null,{"$f":"SUM(E7:O7)","v":0},{"$f":"X7+X10","v":0}]
[null,null,"Del 2","Oppgave","1a","1b","2a","2b","2c","3a","3b","3c","4a","4b","4c","5a","5b",null,null,null,null,null,null,"SUM \nDEL 2","AV"]
[null,null,null,"Poeng",2,2,2,2,2,2,2,2,2,2,2,2,2,null,null,null,null,null,null,{"$f":"SUM(E9:S9)","v":26},{"$f":"X6+X9","v":48}]
[null,null,null,"Sensors\npoeng",null,null,null,null,null,null,null,null,null,null,null,null,null,null,null,null,null,null,null,{"$f":"SUM(E10:S10)","v":0}]
[null,"SAMLET VURDERING (Se Eksamensveiledning LK20 )"]
[null,"Kompetanse",null,null,2,"3/4","5/6","Kommentarer:"]
[null,"Begreper og ferdigheter"]
[null,"Sammenhenger og anvendelser"]
[null,"Utforsking og problemløsing"]
[null,"Resonnering og kommunikasjon"]
[]
[null,"Karakterforslag"]
[null,"Eget karakterforslag"]
[null,"Medsensors forslag"]
[null,"Endelig karakter"]

{"sheet":"K23","index":23,"n_rows":21,"n_cols":25,"rows_kept":21,"cut":false,"hidden":false,"merged":[[0,1,0,24],[18,1,18,3],[19,1,19,3],[4,2,6,2],[10,1,10,13],[11,1,11,3],[12,1,12,3],[12,7,20,24],[13,1,13,3],[14,1,14,3],[15,1,15,3]]}
[null,"VURDERINGSSKJEMA for sentralt gitt skriftlig eksamen i  REA3062 Matematikk S2"]
[]
[null,"Fagkode:","REA3062",null,"Fagnavn:",null,"Matematikk S2",null,null,null,"Gruppe:",null,null,null,null,null,null,null,"Sensor:"]
[]
[null,"Kand.nr:","Del 1","Oppgave",1,"2a","2b","3a","3b","4a","4b",5,"6a","6b","6c",null,null,null,null,null,null,null,null,"SUM \nDEL 1"]
[null,null,null,"Poeng",2,2,2,2,2,2,2,2,2,2,2,null,null,null,null,null,null,null,null,{"$f":"SUM(E6:O6)","v":22},"TOTALT"]
[null,null,null,"Sensors\npoeng",null,null,null,null,null,null,null,null,null,null,null,null,null,null,null,null,null,null,null,{"$f":"SUM(E7:O7)","v":0},{"$f":"X7+X10","v":0}]
[null,null,"Del 2","Oppgave","1a","1b","2a","2b","2c","3a","3b","3c","4a","4b","4c","5a","5b",null,null,null,null,null,null,"SUM \nDEL 2","AV"]
[null,null,null,"Poeng",2,2,2,2,2,2,2,2,2,2,2,2,2,null,null,null,null,null,null,{"$f":"SUM(E9:S9)","v":26},{"$f":"X6+X9","v":48}]
[null,null,null,"Sensors\npoeng",null,null,null,null,null,null,null,null,null,null,null,null,null,null,null,null,null,null,null,{"$f":"SUM(E10:S10)","v":0}]
[null,"SAMLET VURDERING (Se Eksamensveiledning LK20 )"]
[null,"Kompetanse",null,null,2,"3/4","5/6","Kommentarer:"]
[null,"Begreper og ferdigheter"]
[null,"Sammenhenger og anvendelser"]
[null,"Utforsking og problemløsing"]
[null,"Resonnering og kommunikasjon"]
[]
[null,"Karakterforslag"]
[null,"Eget karakterforslag"]
[null,"Medsensors forslag"]
[null,"Endelig karakter"]

{"sheet":"K24","index":24,"n_rows":21,"n_cols":25,"rows_kept":21,"cut":false,"hidden":false,"merged":[[0,1,0,24],[18,1,18,3],[19,1,19,3],[4,2,6,2],[10,1,10,13],[11,1,11,3],[12,1,12,3],[12,7,20,24],[13,1,13,3],[14,1,14,3],[15,1,15,3]]}
[null,"VURDERINGSSKJEMA for sentralt gitt skriftlig eksamen i  REA3062 Matematikk S2"]
[]
[null,"Fagkode:","REA3062",null,"Fagnavn:",null,"Matematikk S2",null,null,null,"Gruppe:",null,null,null,null,null,null,null,"Sensor:"]
[]
[null,"Kand.nr:","Del 1","Oppgave",1,"2a","2b","3a","3b","4a","4b",5,"6a","6b","6c",null,null,null,null,null,null,null,null,"SUM \nDEL 1"]
[null,null,null,"Poeng",2,2,2,2,2,2,2,2,2,2,2,null,null,null,null,null,null,null,null,{"$f":"SUM(E6:O6)","v":22},"TOTALT"]
[null,null,null,"Sensors\npoeng",null,null,null,null,null,null,null,null,null,null,null,null,null,null,null,null,null,null,null,{"$f":"SUM(E7:O7)","v":0},{"$f":"X7+X10","v":0}]
[null,null,"Del 2","Oppgave","1a","1b","2a","2b","2c","3a","3b","3c","4a","4b","4c","5a","5b",null,null,null,null,null,null,"SUM \nDEL 2","AV"]
[null,null,null,"Poeng",2,2,2,2,2,2,2,2,2,2,2,2,2,null,null,null,null,null,null,{"$f":"SUM(E9:S9)","v":26},{"$f":"X6+X9","v":48}]
[null,null,null,"Sensors\npoeng",null,null,null,null,null,null,null,null,null,null,null,null,null,null,null,null,null,null,null,{"$f":"SUM(E10:S10)","v":0}]
[null,"SAMLET VURDERING (Se Eksamensveiledning LK20 )"]
[null,"Kompetanse",null,null,2,"3/4","5/6","Kommentarer:"]
[null,"Begreper og ferdigheter"]
[null,"Sammenhenger og anvendelser"]
[null,"Utforsking og problemløsing"]
[null,"Resonnering og kommunikasjon"]
[]
[null,"Karakterforslag"]
[null,"Eget karakterforslag"]
[null,"Medsensors forslag"]
[null,"Endelig karakter"]

{"sheet":"K25","index":25,"n_rows":21,"n_cols":25,"rows_kept":21,"cut":false,"hidden":false,"merged":[[0,1,0,24],[18,1,18,3],[19,1,19,3],[4,2,6,2],[10,1,10,13],[11,1,11,3],[12,1,12,3],[12,7,20,24],[13,1,13,3],[14,1,14,3],[15,1,15,3]]}
[null,"VURDERINGSSKJEMA for sentralt gitt skriftlig eksamen i  REA3062 Matematikk S2"]
[]
[null,"Fagkode:","REA3062",null,"Fagnavn:",null,"Matematikk S2",null,null,null,"Gruppe:",null,null,null,null,null,null,null,"Sensor:"]
[]
[null,"Kand.nr:","Del 1","Oppgave",1,"2a","2b","3a","3b","4a","4b",5,"6a","6b","6c",null,null,null,null,null,null,null,null,"SUM \nDEL 1"]
[null,null,null,"Poeng",2,2,2,2,2,2,2,2,2,2,2,null,null,null,null,null,null,null,null,{"$f":"SUM(E6:O6)","v":22},"TOTALT"]
[null,null,null,"Sensors\npoeng",null,null,null,null,null,null,null,null,null,null,null,null,null,null,null,null,null,null,null,{"$f":"SUM(E7:O7)","v":0},{"$f":"X7+X10","v":0}]
[null,null,"Del 2","Oppgave","1a","1b","2a","2b","2c","3a","3b","3c","4a","4b","4c","5a","5b",null,null,null,null,null,null,"SUM \nDEL 2","AV"]
[null,null,null,"Poeng",2,2,2,2,2,2,2,2,2,2,2,2,2,null,null,null,null,null,null,{"$f":"SUM(E9:S9)","v":26},{"$f":"X6+X9","v":48}]
[null,null,null,"Sensors\npoeng",null,null,null,null,null,null,null,null,null,null,null,null,null,null,null,null,null,null,null,{"$f":"SUM(E10:S10)","v":0}]
[null,"SAMLET VURDERING (Se Eksamensveiledning LK20 )"]
[null,"Kompetanse",null,null,2,"3/4","5/6","Kommentarer:"]
[null,"Begreper og ferdigheter"]
[null,"Sammenhenger og anvendelser"]
[null,"Utforsking og problemløsing"]
[null,"Resonnering og kommunikasjon"]
[]
[null,"Karakterforslag"]
[null,"Eget karakterforslag"]
[null,"Medsensors forslag"]
[null,"Endelig karakter"]

{"sheet":"K26","index":26,"n_rows":21,"n_cols":25,"rows_kept":21,"cut":false,"hidden":false,"merged":[[0,1,0,24],[18,1,18,3],[19,1,19,3],[4,2,6,2],[10,1,10,13],[11,1,11,3],[12,1,12,3],[12,7,20,24],[13,1,13,3],[14,1,14,3],[15,1,15,3]]}
[null,"VURDERINGSSKJEMA for sentralt gitt skriftlig eksamen i  REA3062 Matematikk S2"]
[]
[null,"Fagkode:","REA3062",null,"Fagnavn:",null,"Matematikk S2",null,null,null,"Gruppe:",null,null,null,null,null,null,null,"Sensor:"]
[]
[null,"Kand.nr:","Del 1","Oppgave",1,"2a","2b","3a","3b","4a","4b",5,"6a","6b","6c",null,null,null,null,null,null,null,null,"SUM \nDEL 1"]
[null,null,null,"Poeng",2,2,2,2,2,2,2,2,2,2,2,null,null,null,null,null,null,null,null,{"$f":"SUM(E6:O6)","v":22},"TOTALT"]
[null,null,null,"Sensors\npoeng",null,null,null,null,null,null,null,null,null,null,null,null,null,null,null,null,null,null,null,{"$f":"SUM(E7:O7)","v":0},{"$f":"X7+X10","v":0}]
[null,null,"Del 2","Oppgave","1a","1b","2a","2b","2c","3a","3b","3c","4a","4b","4c","5a","5b",null,null,null,null,null,null,"SUM \nDEL 2","AV"]
[null,null,null,"Poeng",2,2,2,2,2,2,2,2,2,2,2,2,2,null,null,null,null,null,null,{"$f":"SUM(E9:S9)","v":26},{"$f":"X6+X9","v":48}]
[null,null,null,"Sensors\npoeng",null,null,null,null,null,null,null,null,null,null,null,null,null,null,null,null,null,null,null,{"$f":"SUM(E10:S10)","v":0}]
[null,"SAMLET VURDERING (Se Eksamensveiledning LK20 )"]
[null,"Kompetanse",null,null,2,"3/4","5/6","Kommentarer:"]
[null,"Begreper og ferdigheter"]
[null,"Sammenhenger og anvendelser"]
[null,"Utforsking og problemløsing"]
[null,"Resonnering og kommunikasjon"]
[]
[null,"Karakterforslag"]
[null,"Eget karakterforslag"]
[null,"Medsensors forslag"]
[null,"Endelig karakter"]

{"sheet":"K27","index":27,"n_rows":21,"n_cols":25,"rows_kept":21,"cut":false,"hidden":false,"merged":[[0,1,0,24],[18,1,18,3],[19,1,19,3],[4,2,6,2],[10,1,10,13],[11,1,11,3],[12,1,12,3],[12,7,20,24],[13,1,13,3],[14,1,14,3],[15,1,15,3]]}
[null,"VURDERINGSSKJEMA for sentralt gitt skriftlig eksamen i  REA3062 Matematikk S2"]
[]
[null,"Fagkode:","REA3062",null,"Fagnavn:",null,"Matematikk S2",null,null,null,"Gruppe:",null,null,null,null,null,null,null,"Sensor:"]
[]
[null,"Kand.nr:","Del 1","Oppgave",1,"2a","2b","3a","3b","4a","4b",5,"6a","6b","6c",null,null,null,null,null,null,null,null,"SUM \nDEL 1"]
[null,null,null,"Poeng",2,2,2,2,2,2,2,2,2,2,2,null,null,null,null,null,null,null,null,{"$f":"SUM(E6:O6)","v":22},"TOTALT"]
[null,null,null,"Sensors\npoeng",null,null,null,null,null,null,null,null,null,null,null,null,null,null,null,null,null,null,null,{"$f":"SUM(E7:O7)","v":0},{"$f":"X7+X10","v":0}]
[null,null,"Del 2","Oppgave","1a","1b","2a","2b","2c","3a","3b","3c","4a","4b","4c","5a","5b",null,null,null,null,null,null,"SUM \nDEL 2","AV"]
[null,null,null,"Poeng",2,2,2,2,2,2,2,2,2,2,2,2,2,null,null,null,null,null,null,{"$f":"SUM(E9:S9)","v":26},{"$f":"X6+X9","v":48}]
[null,null,null,"Sensors\npoeng",null,null,null,null,null,null,null,null,null,null,null,null,null,null,null,null,null,null,null,{"$f":"SUM(E10:S10)","v":0}]
[null,"SAMLET VURDERING (Se Eksamensveiledning LK20 )"]
[null,"Kompetanse",null,null,2,"3/4","5/6","Kommentarer:"]
[null,"Begreper og ferdigheter"]
[null,"Sammenhenger og anvendelser"]
[null,"Utforsking og problemløsing"]
[null,"Resonnering og kommunikasjon"]
[]
[null,"Karakterforslag"]
[null,"Eget karakterforslag"]
[null,"Medsensors forslag"]
[null,"Endelig karakter"]

{"sheet":"K28","index":28,"n_rows":21,"n_cols":25,"rows_kept":21,"cut":false,"hidden":false,"merged":[[0,1,0,24],[18,1,18,3],[19,1,19,3],[4,2,6,2],[10,1,10,13],[11,1,11,3],[12,1,12,3],[12,7,20,24],[13,1,13,3],[14,1,14,3],[15,1,15,3]]}
[null,"VURDERINGSSKJEMA for sentralt gitt skriftlig eksamen i  REA3062 Matematikk S2"]
[]
[null,"Fagkode:","REA3062",null,"Fagnavn:",null,"Matematikk S2",null,null,null,"Gruppe:",null,null,null,null,null,null,null,"Sensor:"]
[]
[null,"Kand.nr:","Del 1","Oppgave",1,"2a","2b","3a","3b","4a","4b",5,"6a","6b","6c",null,null,null,null,null,null,null,null,"SUM \nDEL 1"]
[null,null,null,"Poeng",2,2,2,2,2,2,2,2,2,2,2,null,null,null,null,null,null,null,null,{"$f":"SUM(E6:O6)","v":22},"TOTALT"]
[null,null,null,"Sensors\npoeng",null,null,null,null,null,null,null,null,null,null,null,null,null,null,null,null,null,null,null,{"$f":"SUM(E7:O7)","v":0},{"$f":"X7+X10","v":0}]
[null,null,"Del 2","Oppgave","1a","1b","2a","2b","2c","3a","3b","3c","4a","4b","4c","5a","5b",null,null,null,null,null,null,"SUM \nDEL 2","AV"]
[null,null,null,"Poeng",2,2,2,2,2,2,2,2,2,2,2,2,2,null,null,null,null,null,null,{"$f":"SUM(E9:S9)","v":26},{"$f":"X6+X9","v":48}]
[null,null,null,"Sensors\npoeng",null,null,null,null,null,null,null,null,null,null,null,null,null,null,null,null,null,null,null,{"$f":"SUM(E10:S10)","v":0}]
[null,"SAMLET VURDERING (Se Eksamensveiledning LK20 )"]
[null,"Kompetanse",null,null,2,"3/4","5/6","Kommentarer:"]
[null,"Begreper og ferdigheter"]
[null,"Sammenhenger og anvendelser"]
[null,"Utforsking og problemløsing"]
[null,"Resonnering og kommunikasjon"]
[]
[null,"Karakterforslag"]
[null,"Eget karakterforslag"]
[null,"Medsensors forslag"]
[null,"Endelig karakter"]

{"sheet":"K29","index":29,"n_rows":21,"n_cols":25,"rows_kept":21,"cut":false,"hidden":false,"merged":[[0,1,0,24],[18,1,18,3],[19,1,19,3],[4,2,6,2],[10,1,10,13],[11,1,11,3],[12,1,12,3],[12,7,20,24],[13,1,13,3],[14,1,14,3],[15,1,15,3]]}
[null,"VURDERINGSSKJEMA for sentralt gitt skriftlig eksamen i  REA3062 Matematikk S2"]
[]
[null,"Fagkode:","REA3062",null,"Fagnavn:",null,"Matematikk S2",null,null,null,"Gruppe:",null,null,null,null,null,null,null,"Sensor:"]
[]
[null,"Kand.nr:","Del 1","Oppgave",1,"2a","2b","3a","3b","4a","4b",5,"6a","6b","6c",null,null,null,null,null,null,null,null,"SUM \nDEL 1"]
[null,null,null,"Poeng",2,2,2,2,2,2,2,2,2,2,2,null,null,null,null,null,null,null,null,{"$f":"SUM(E6:O6)","v":22},"TOTALT"]
[null,null,null,"Sensors\npoeng",null,null,null,null,null,null,null,null,null,null,null,null,null,null,null,null,null,null,null,{"$f":"SUM(E7:O7)","v":0},{"$f":"X7+X10","v":0}]
[null,null,"Del 2","Oppgave","1a","1b","2a","2b","2c","3a","3b","3c","4a","4b","4c","5a","5b",null,null,null,null,null,null,"SUM \nDEL 2","AV"]
[null,null,null,"Poeng",2,2,2,2,2,2,2,2,2,2,2,2,2,null,null,null,null,null,null,{"$f":"SUM(E9:S9)","v":26},{"$f":"X6+X9","v":48}]
[null,null,null,"Sensors\npoeng",null,null,null,null,null,null,null,null,null,null,null,null,null,null,null,null,null,null,null,{"$f":"SUM(E10:S10)","v":0}]
[null,"SAMLET VURDERING (Se Eksamensveiledning LK20 )"]
[null,"Kompetanse",null,null,2,"3/4","5/6","Kommentarer:"]
[null,"Begreper og ferdigheter"]
[null,"Sammenhenger og anvendelser"]
[null,"Utforsking og problemløsing"]
[null,"Resonnering og kommunikasjon"]
[]
[null,"Karakterforslag"]
[null,"Eget karakterforslag"]
[null,"Medsensors forslag"]
[null,"Endelig karakter"]

{"sheet":"K30","index":30,"n_rows":21,"n_cols":25,"rows_kept":21,"cut":false,"hidden":false,"merged":[[0,1,0,24],[18,1,18,3],[19,1,19,3],[4,2,6,2],[10,1,10,13],[11,1,11,3],[12,1,12,3],[12,7,20,24],[13,1,13,3],[14,1,14,3],[15,1,15,3]]}
[null,"VURDERINGSSKJEMA for sentralt gitt skriftlig eksamen i  REA3062 Matematikk S2"]
[]
[null,"Fagkode:","REA3062",null,"Fagnavn:",null,"Matematikk S2",null,null,null,"Gruppe:",null,null,null,null,null,null,null,"Sensor:"]
[]
[null,"Kand.nr:","Del 1","Oppgave",1,"2a","2b","3a","3b","4a","4b",5,"6a","6b","6c",null,null,null,null,null,null,null,null,"SUM \nDEL 1"]
[null,null,null,"Poeng",2,2,2,2,2,2,2,2,2,2,2,null,null,null,null,null,null,null,null,{"$f":"SUM(E6:O6)","v":22},"TOTALT"]
[null,null,null,"Sensors\npoeng",null,null,null,null,null,null,null,null,null,null,null,null,null,null,null,null,null,null,null,{"$f":"SUM(E7:O7)","v":0},{"$f":"X7+X10","v":0}]
[null,null,"Del 2","Oppgave","1a","1b","2a","2b","2c","3a","3b","3c","4a","4b","4c","5a","5b",null,null,null,null,null,null,"SUM \nDEL 2","AV"]
[null,null,null,"Poeng",2,2,2,2,2,2,2,2,2,2,2,2,2,null,null,null,null,null,null,{"$f":"SUM(E9:S9)","v":26},{"$f":"X6+X9","v":48}]
[null,null,null,"Sensors\npoeng",null,null,null,null,null,null,null,null,null,null,null,null,null,null,null,null,null,null,null,{"$f":"SUM(E10:S10)","v":0}]
[null,"SAMLET VURDERING (Se Eksamensveiledning LK20 )"]
[null,"Kompetanse",null,null,2,"3/4","5/6","Kommentarer:"]
[null,"Begreper og ferdigheter"]
[null,"Sammenhenger og anvendelser"]
[null,"Utforsking og problemløsing"]
[null,"Resonnering og kommunikasjon"]
[]
[null,"Karakterforslag"]
[null,"Eget karakterforslag"]
[null,"Medsensors forslag"]
[null,"Endelig karakter"]

{"sheet":"Oppsummering_IRT","index":31,"n_rows":31,"n_cols":31,"rows_kept":31,"cut":false,"hidden":true,"merged":[]}
[null,"Kand. nr","Poeng","Sensor sitt karakterforslag","Kommentarer","1.del1","2a.del1","2b.del1","3a.del1","3b.del1","4a.del1","4b.del1","5.del1","6a.del1","6b.del1","6c.del1","Sum.del1","1a.del2","1b.del2","2a.del2","2b.del2","2c.del2","3a.del2","3b.del2","3c.del2","4a.del2","4b.del2","4c.del2","5a.del2","5b.del2","Sum.del2"]
["K1",{"$f":"'K1'!$B$6","v":0},{"$f":"'K1'!$Y$7","v":0},{"$f":"'K1'!$E$19","v":0},{"$f":"'K1'!Kommentarer","v":0},{"$f":"'K1'!E7","v":0},{"$f":"'K1'!F7","v":0},{"$f":"'K1'!G7","v":0},{"$f":"'K1'!H7","v":0},{"$f":"'K1'!I7","v":0},{"$f":"'K1'!J7","v":0},{"$f":"'K1'!K7","v":0},{"$f":"'K1'!L7","v":0},{"$f":"'K1'!M7","v":0},{"$f":"'K1'!N7","v":0},{"$f":"'K1'!O7","v":0},{"$f":"SUM(F2:P2)","v":0},{"$f":"'K1'!E10","v":0},{"$f":"'K1'!F10","v":0},{"$f":"'K1'!G10","v":0},{"$f":"'K1'!H10","v":0},{"$f":"'K1'!I10","v":0},{"$f":"'K1'!J10","v":0},{"$f":"'K1'!K10","v":0},{"$f":"'K1'!L10","v":0},{"$f":"'K1'!M10","v":0},{"$f":"'K1'!N10","v":0},{"$f":"'K1'!O10","v":0},{"$f":"'K1'!P10","v":0},{"$f":"'K1'!Q10","v":0},{"$f":"SUM(R2:AD2)","v":0}]
["K2",{"$f":"'K2'!$B$6","v":0},{"$f":"'K2'!$Y$7","v":0},{"$f":"'K2'!$E$19","v":0},{"$f":"'K2'!Kommentarer","v":0},{"$f":"'K2'!E7","v":0},{"$f":"'K2'!F7","v":0},{"$f":"'K2'!G7","v":0},{"$f":"'K2'!H7","v":0},{"$f":"'K2'!I7","v":0},{"$f":"'K2'!J7","v":0},{"$f":"'K2'!K7","v":0},{"$f":"'K2'!L7","v":0},{"$f":"'K2'!M7","v":0},{"$f":"'K2'!N7","v":0},{"$f":"'K2'!O7","v":0},0,{"$f":"'K2'!E10","v":0},{"$f":"'K2'!F10","v":0},{"$f":"'K2'!G10","v":0},{"$f":"'K2'!H10","v":0},{"$f":"'K2'!I10","v":0},{"$f":"'K2'!J10","v":0},{"$f":"'K2'!K10","v":0},{"$f":"'K2'!L10","v":0},{"$f":"'K2'!M10","v":0},{"$f":"'K2'!N10","v":0},{"$f":"'K2'!O10","v":0},{"$f":"'K2'!P10","v":0},{"$f":"'K2'!Q10","v":0},0]
["K3",{"$f":"'K3'!$B$6","v":0},{"$f":"'K3'!$Y$7","v":0},{"$f":"'K3'!$E$19","v":0},{"$f":"'K3'!Kommentarer","v":0},{"$f":"'K3'!E7","v":0},{"$f":"'K3'!F7","v":0},{"$f":"'K3'!G7","v":0},{"$f":"'K3'!H7","v":0},{"$f":"'K3'!I7","v":0},{"$f":"'K3'!J7","v":0},{"$f":"'K3'!K7","v":0},{"$f":"'K3'!L7","v":0},{"$f":"'K3'!M7","v":0},{"$f":"'K3'!N7","v":0},{"$f":"'K3'!O7","v":0},0,{"$f":"'K3'!E10","v":0},{"$f":"'K3'!F10","v":0},{"$f":"'K3'!G10","v":0},{"$f":"'K3'!H10","v":0},{"$f":"'K3'!I10","v":0},{"$f":"'K3'!J10","v":0},{"$f":"'K3'!K10","v":0},{"$f":"'K3'!L10","v":0},{"$f":"'K3'!M10","v":0},{"$f":"'K3'!N10","v":0},{"$f":"'K3'!O10","v":0},{"$f":"'K3'!P10","v":0},{"$f":"'K3'!Q10","v":0},0]
["K4",{"$f":"'K4'!$B$6","v":0},{"$f":"'K4'!$Y$7","v":0},{"$f":"'K4'!$E$19","v":0},{"$f":"'K4'!Kommentarer","v":0},{"$f":"'K4'!E7","v":0},{"$f":"'K4'!F7","v":0},{"$f":"'K4'!G7","v":0},{"$f":"'K4'!H7","v":0},{"$f":"'K4'!I7","v":0},{"$f":"'K4'!J7","v":0},{"$f":"'K4'!K7","v":0},{"$f":"'K4'!L7","v":0},{"$f":"'K4'!M7","v":0},{"$f":"'K4'!N7","v":0},{"$f":"'K4'!O7","v":0},0,{"$f":"'K4'!E10","v":0},{"$f":"'K4'!F10","v":0},{"$f":"'K4'!G10","v":0},{"$f":"'K4'!H10","v":0},{"$f":"'K4'!I10","v":0},{"$f":"'K4'!J10","v":0},{"$f":"'K4'!K10","v":0},{"$f":"'K4'!L10","v":0},{"$f":"'K4'!M10","v":0},{"$f":"'K4'!N10","v":0},{"$f":"'K4'!O10","v":0},{"$f":"'K4'!P10","v":0},{"$f":"'K4'!Q10","v":0},0]
["K5",{"$f":"'K5'!$B$6","v":0},{"$f":"'K5'!$Y$7","v":0},{"$f":"'K5'!$E$19","v":0},{"$f":"'K5'!Kommentarer","v":0},{"$f":"'K5'!E7","v":0},{"$f":"'K5'!F7","v":0},{"$f":"'K5'!G7","v":0},{"$f":"'K5'!H7","v":0},{"$f":"'K5'!I7","v":0},{"$f":"'K5'!J7","v":0},{"$f":"'K5'!K7","v":0},{"$f":"'K5'!L7","v":0},{"$f":"'K5'!M7","v":0},{"$f":"'K5'!N7","v":0},{"$f":"'K5'!O7","v":0},0,{"$f":"'K5'!E10","v":0},{"$f":"'K5'!F10","v":0},{"$f":"'K5'!G10","v":0},{"$f":"'K5'!H10","v":0},{"$f":"'K5'!I10","v":0},{"$f":"'K5'!J10","v":0},{"$f":"'K5'!K10","v":0},{"$f":"'K5'!L10","v":0},{"$f":"'K5'!M10","v":0},{"$f":"'K5'!N10","v":0},{"$f":"'K5'!O10","v":0},{"$f":"'K5'!P10","v":0},{"$f":"'K5'!Q10","v":0},0]
["K6",{"$f":"'K6'!$B$6","v":0},{"$f":"'K6'!$Y$7","v":0},{"$f":"'K6'!$E$19","v":0},{"$f":"'K6'!Kommentarer","v":0},{"$f":"'K6'!E7","v":0},{"$f":"'K6'!F7","v":0},{"$f":"'K6'!G7","v":0},{"$f":"'K6'!H7","v":0},{"$f":"'K6'!I7","v":0},{"$f":"'K6'!J7","v":0},{"$f":"'K6'!K7","v":0},{"$f":"'K6'!L7","v":0},{"$f":"'K6'!M7","v":0},{"$f":"'K6'!N7","v":0},{"$f":"'K6'!O7","v":0},0,{"$f":"'K6'!E10","v":0},{"$f":"'K6'!F10","v":0},{"$f":"'K6'!G10","v":0},{"$f":"'K6'!H10","v":0},{"$f":"'K6'!I10","v":0},{"$f":"'K6'!J10","v":0},{"$f":"'K6'!K10","v":0},{"$f":"'K6'!L10","v":0},{"$f":"'K6'!M10","v":0},{"$f":"'K6'!N10","v":0},{"$f":"'K6'!O10","v":0},{"$f":"'K6'!P10","v":0},{"$f":"'K6'!Q10","v":0},0]
["K7",{"$f":"'K7'!$B$6","v":0},{"$f":"'K7'!$Y$7","v":0},{"$f":"'K7'!$E$19","v":0},{"$f":"'K7'!Kommentarer","v":0},{"$f":"'K7'!E7","v":0},{"$f":"'K7'!F7","v":0},{"$f":"'K7'!G7","v":0},{"$f":"'K7'!H7","v":0},{"$f":"'K7'!I7","v":0},{"$f":"'K7'!J7","v":0},{"$f":"'K7'!K7","v":0},{"$f":"'K7'!L7","v":0},{"$f":"'K7'!M7","v":0},{"$f":"'K7'!N7","v":0},{"$f":"'K7'!O7","v":0},0,{"$f":"'K7'!E10","v":0},{"$f":"'K7'!F10","v":0},{"$f":"'K7'!G10","v":0},{"$f":"'K7'!H10","v":0},{"$f":"'K7'!I10","v":0},{"$f":"'K7'!J10","v":0},{"$f":"'K7'!K10","v":0},{"$f":"'K7'!L10","v":0},{"$f":"'K7'!M10","v":0},{"$f":"'K7'!N10","v":0},{"$f":"'K7'!O10","v":0},{"$f":"'K7'!P10","v":0},{"$f":"'K7'!Q10","v":0},0]
["K8",{"$f":"'K8'!$B$6","v":0},{"$f":"'K8'!$Y$7","v":0},{"$f":"'K8'!$E$19","v":0},{"$f":"'K8'!Kommentarer","v":0},{"$f":"'K8'!E7","v":0},{"$f":"'K8'!F7","v":0},{"$f":"'K8'!G7","v":0},{"$f":"'K8'!H7","v":0},{"$f":"'K8'!I7","v":0},{"$f":"'K8'!J7","v":0},{"$f":"'K8'!K7","v":0},{"$f":"'K8'!L7","v":0},{"$f":"'K8'!M7","v":0},{"$f":"'K8'!N7","v":0},{"$f":"'K8'!O7","v":0},0,{"$f":"'K8'!E10","v":0},{"$f":"'K8'!F10","v":0},{"$f":"'K8'!G10","v":0},{"$f":"'K8'!H10","v":0},{"$f":"'K8'!I10","v":0},{"$f":"'K8'!J10","v":0},{"$f":"'K8'!K10","v":0},{"$f":"'K8'!L10","v":0},{"$f":"'K8'!M10","v":0},{"$f":"'K8'!N10","v":0},{"$f":"'K8'!O10","v":0},{"$f":"'K8'!P10","v":0},{"$f":"'K8'!Q10","v":0},0]
["K9",{"$f":"'K9'!$B$6","v":0},{"$f":"'K9'!$Y$7","v":0},{"$f":"'K9'!$E$19","v":0},{"$f":"'K9'!Kommentarer","v":0},{"$f":"'K9'!E7","v":0},{"$f":"'K9'!F7","v":0},{"$f":"'K9'!G7","v":0},{"$f":"'K9'!H7","v":0},{"$f":"'K9'!I7","v":0},{"$f":"'K9'!J7","v":0},{"$f":"'K9'!K7","v":0},{"$f":"'K9'!L7","v":0},{"$f":"'K9'!M7","v":0},{"$f":"'K9'!N7","v":0},{"$f":"'K9'!O7","v":0},0,{"$f":"'K9'!E10","v":0},{"$f":"'K9'!F10","v":0},{"$f":"'K9'!G10","v":0},{"$f":"'K9'!H10","v":0},{"$f":"'K9'!I10","v":0},{"$f":"'K9'!J10","v":0},{"$f":"'K9'!K10","v":0},{"$f":"'K9'!L10","v":0},{"$f":"'K9'!M10","v":0},{"$f":"'K9'!N10","v":0},{"$f":"'K9'!O10","v":0},{"$f":"'K9'!P10","v":0},{"$f":"'K9'!Q10","v":0},0]
["K10",{"$f":"'K10'!$B$6","v":0},{"$f":"'K10'!$Y$7","v":0},{"$f":"'K10'!$E$19","v":0},{"$f":"'K10'!Kommentarer","v":0},{"$f":"'K10'!E7","v":0},{"$f":"'K10'!F7","v":0},{"$f":"'K10'!G7","v":0},{"$f":"'K10'!H7","v":0},{"$f":"'K10'!I7","v":0},{"$f":"'K10'!J7","v":0},{"$f":"'K10'!K7","v":0},{"$f":"'K10'!L7","v":0},{"$f":"'K10'!M7","v":0},{"$f":"'K10'!N7","v":0},{"$f":"'K10'!O7","v":0},0,{"$f":"'K10'!E10","v":0},{"$f":"'K10'!F10","v":0},{"$f":"'K10'!G10","v":0},{"$f":"'K10'!H10","v":0},{"$f":"'K10'!I10","v":0},{"$f":"'K10'!J10","v":0},{"$f":"'K10'!K10","v":0},{"$f":"'K10'!L10","v":0},{"$f":"'K10'!M10","v":0},{"$f":"'K10'!N10","v":0},{"$f":"'K10'!O10","v":0},{"$f":"'K10'!P10","v":0},{"$f":"'K10'!Q10","v":0},0]
["K11",{"$f":"'K11'!$B$6","v":0},{"$f":"'K11'!$Y$7","v":0},{"$f":"'K11'!$E$19","v":0},{"$f":"'K11'!Kommentarer","v":0},{"$f":"'K11'!E7","v":0},{"$f":"'K11'!F7","v":0},{"$f":"'K11'!G7","v":0},{"$f":"'K11'!H7","v":0},{"$f":"'K11'!I7","v":0},{"$f":"'K11'!J7","v":0},{"$f":"'K11'!K7","v":0},{"$f":"'K11'!L7","v":0},{"$f":"'K11'!M7","v":0},{"$f":"'K11'!N7","v":0},{"$f":"'K11'!O7","v":0},0,{"$f":"'K11'!E10","v":0},{"$f":"'K11'!F10","v":0},{"$f":"'K11'!G10","v":0},{"$f":"'K11'!H10","v":0},{"$f":"'K11'!I10","v":0},{"$f":"'K11'!J10","v":0},{"$f":"'K11'!K10","v":0},{"$f":"'K11'!L10","v":0},{"$f":"'K11'!M10","v":0},{"$f":"'K11'!N10","v":0},{"$f":"'K11'!O10","v":0},{"$f":"'K11'!P10","v":0},{"$f":"'K11'!Q10","v":0},0]
["K12",{"$f":"'K12'!$B$6","v":0},{"$f":"'K12'!$Y$7","v":0},{"$f":"'K12'!$E$19","v":0},{"$f":"'K12'!Kommentarer","v":0},{"$f":"'K12'!E7","v":0},{"$f":"'K12'!F7","v":0},{"$f":"'K12'!G7","v":0},{"$f":"'K12'!H7","v":0},{"$f":"'K12'!I7","v":0},{"$f":"'K12'!J7","v":0},{"$f":"'K12'!K7","v":0},{"$f":"'K12'!L7","v":0},{"$f":"'K12'!M7","v":0},{"$f":"'K12'!N7","v":0},{"$f":"'K12'!O7","v":0},0,{"$f":"'K12'!E10","v":0},{"$f":"'K12'!F10","v":0},{"$f":"'K12'!G10","v":0},{"$f":"'K12'!H10","v":0},{"$f":"'K12'!I10","v":0},{"$f":"'K12'!J10","v":0},{"$f":"'K12'!K10","v":0},{"$f":"'K12'!L10","v":0},{"$f":"'K12'!M10","v":0},{"$f":"'K12'!N10","v":0},{"$f":"'K12'!O10","v":0},{"$f":"'K12'!P10","v":0},{"$f":"'K12'!Q10","v":0},0]
["K13",{"$f":"'K13'!$B$6","v":0},{"$f":"'K13'!$Y$7","v":0},{"$f":"'K13'!$E$19","v":0},{"$f":"'K13'!Kommentarer","v":0},{"$f":"'K13'!E7","v":0},{"$f":"'K13'!F7","v":0},{"$f":"'K13'!G7","v":0},{"$f":"'K13'!H7","v":0},{"$f":"'K13'!I7","v":0},{"$f":"'K13'!J7","v":0},{"$f":"'K13'!K7","v":0},{"$f":"'K13'!L7","v":0},{"$f":"'K13'!M7","v":0},{"$f":"'K13'!N7","v":0},{"$f":"'K13'!O7","v":0},0,{"$f":"'K13'!E10","v":0},{"$f":"'K13'!F10","v":0},{"$f":"'K13'!G10","v":0},{"$f":"'K13'!H10","v":0},{"$f":"'K13'!I10","v":0},{"$f":"'K13'!J10","v":0},{"$f":"'K13'!K10","v":0},{"$f":"'K13'!L10","v":0},{"$f":"'K13'!M10","v":0},{"$f":"'K13'!N10","v":0},{"$f":"'K13'!O10","v":0},{"$f":"'K13'!P10","v":0},{"$f":"'K13'!Q10","v":0},0]
["K14",{"$f":"'K14'!$B$6","v":0},{"$f":"'K14'!$Y$7","v":0},{"$f":"'K14'!$E$19","v":0},{"$f":"'K14'!Kommentarer","v":0},{"$f":"'K14'!E7","v":0},{"$f":"'K14'!F7","v":0},{"$f":"'K14'!G7","v":0},{"$f":"'K14'!H7","v":0},{"$f":"'K14'!I7","v":0},{"$f":"'K14'!J7","v":0},{"$f":"'K14'!K7","v":0},{"$f":"'K14'!L7","v":0},{"$f":"'K14'!M7","v":0},{"$f":"'K14'!N7","v":0},{"$f":"'K14'!O7","v":0},0,{"$f":"'K14'!E10","v":0},{"$f":"'K14'!F10","v":0},{"$f":"'K14'!G10","v":0},{"$f":"'K14'!H10","v":0},{"$f":"'K14'!I10","v":0},{"$f":"'K14'!J10","v":0},{"$f":"'K14'!K10","v":0},{"$f":"'K14'!L10","v":0},{"$f":"'K14'!M10","v":0},{"$f":"'K14'!N10","v":0},{"$f":"'K14'!O10","v":0},{"$f":"'K14'!P10","v":0},{"$f":"'K14'!Q10","v":0},0]
["K15",{"$f":"'K15'!$B$6","v":0},{"$f":"'K15'!$Y$7","v":0},{"$f":"'K15'!$E$19","v":0},{"$f":"'K15'!Kommentarer","v":0},{"$f":"'K15'!E7","v":0},{"$f":"'K15'!F7","v":0},{"$f":"'K15'!G7","v":0},{"$f":"'K15'!H7","v":0},{"$f":"'K15'!I7","v":0},{"$f":"'K15'!J7","v":0},{"$f":"'K15'!K7","v":0},{"$f":"'K15'!L7","v":0},{"$f":"'K15'!M7","v":0},{"$f":"'K15'!N7","v":0},{"$f":"'K15'!O7","v":0},0,{"$f":"'K15'!E10","v":0},{"$f":"'K15'!F10","v":0},{"$f":"'K15'!G10","v":0},{"$f":"'K15'!H10","v":0},{"$f":"'K15'!I10","v":0},{"$f":"'K15'!J10","v":0},{"$f":"'K15'!K10","v":0},{"$f":"'K15'!L10","v":0},{"$f":"'K15'!M10","v":0},{"$f":"'K15'!N10","v":0},{"$f":"'K15'!O10","v":0},{"$f":"'K15'!P10","v":0},{"$f":"'K15'!Q10","v":0},0]
["K16",{"$f":"'K16'!$B$6","v":0},{"$f":"'K16'!$Y$7","v":0},{"$f":"'K16'!$E$19","v":0},{"$f":"'K16'!Kommentarer","v":0},{"$f":"'K16'!E7","v":0},{"$f":"'K16'!F7","v":0},{"$f":"'K16'!G7","v":0},{"$f":"'K16'!H7","v":0},{"$f":"'K16'!I7","v":0},{"$f":"'K16'!J7","v":0},{"$f":"'K16'!K7","v":0},{"$f":"'K16'!L7","v":0},{"$f":"'K16'!M7","v":0},{"$f":"'K16'!N7","v":0},{"$f":"'K16'!O7","v":0},0,{"$f":"'K16'!E10","v":0},{"$f":"'K16'!F10","v":0},{"$f":"'K16'!G10","v":0},{"$f":"'K16'!H10","v":0},{"$f":"'K16'!I10","v":0},{"$f":"'K16'!J10","v":0},{"$f":"'K16'!K10","v":0},{"$f":"'K16'!L10","v":0},{"$f":"'K16'!M10","v":0},{"$f":"'K16'!N10","v":0},{"$f":"'K16'!O10","v":0},{"$f":"'K16'!P10","v":0},{"$f":"'K16'!Q10","v":0},0]
["K17",{"$f":"'K17'!$B$6","v":0},{"$f":"'K17'!$Y$7","v":0},{"$f":"'K17'!$E$19","v":0},{"$f":"'K17'!Kommentarer","v":0},{"$f":"'K17'!E7","v":0},{"$f":"'K17'!F7","v":0},{"$f":"'K17'!G7","v":0},{"$f":"'K17'!H7","v":0},{"$f":"'K17'!I7","v":0},{"$f":"'K17'!J7","v":0},{"$f":"'K17'!K7","v":0},{"$f":"'K17'!L7","v":0},{"$f":"'K17'!M7","v":0},{"$f":"'K17'!N7","v":0},{"$f":"'K17'!O7","v":0},0,{"$f":"'K17'!E10","v":0},{"$f":"'K17'!F10","v":0},{"$f":"'K17'!G10","v":0},{"$f":"'K17'!H10","v":0},{"$f":"'K17'!I10","v":0},{"$f":"'K17'!J10","v":0},{"$f":"'K17'!K10","v":0},{"$f":"'K17'!L10","v":0},{"$f":"'K17'!M10","v":0},{"$f":"'K17'!N10","v":0},{"$f":"'K17'!O10","v":0},{"$f":"'K17'!P10","v":0},{"$f":"'K17'!Q10","v":0},0]
["K18",{"$f":"'K18'!$B$6","v":0},{"$f":"'K18'!$Y$7","v":0},{"$f":"'K18'!$E$19","v":0},{"$f":"'K18'!Kommentarer","v":0},{"$f":"'K18'!E7","v":0},{"$f":"'K18'!F7","v":0},{"$f":"'K18'!G7","v":0},{"$f":"'K18'!H7","v":0},{"$f":"'K18'!I7","v":0},{"$f":"'K18'!J7","v":0},{"$f":"'K18'!K7","v":0},{"$f":"'K18'!L7","v":0},{"$f":"'K18'!M7","v":0},{"$f":"'K18'!N7","v":0},{"$f":"'K18'!O7","v":0},0,{"$f":"'K18'!E10","v":0},{"$f":"'K18'!F10","v":0},{"$f":"'K18'!G10","v":0},{"$f":"'K18'!H10","v":0},{"$f":"'K18'!I10","v":0},{"$f":"'K18'!J10","v":0},{"$f":"'K18'!K10","v":0},{"$f":"'K18'!L10","v":0},{"$f":"'K18'!M10","v":0},{"$f":"'K18'!N10","v":0},{"$f":"'K18'!O10","v":0},{"$f":"'K18'!P10","v":0},{"$f":"'K18'!Q10","v":0},0]
["K19",{"$f":"'K19'!$B$6","v":0},{"$f":"'K19'!$Y$7","v":0},{"$f":"'K19'!$E$19","v":0},{"$f":"'K19'!Kommentarer","v":0},{"$f":"'K19'!E7","v":0},{"$f":"'K19'!F7","v":0},{"$f":"'K19'!G7","v":0},{"$f":"'K19'!H7","v":0},{"$f":"'K19'!I7","v":0},{"$f":"'K19'!J7","v":0},{"$f":"'K19'!K7","v":0},{"$f":"'K19'!L7","v":0},{"$f":"'K19'!M7","v":0},{"$f":"'K19'!N7","v":0},{"$f":"'K19'!O7","v":0},0,{"$f":"'K19'!E10","v":0},{"$f":"'K19'!F10","v":0},{"$f":"'K19'!G10","v":0},{"$f":"'K19'!H10","v":0},{"$f":"'K19'!I10","v":0},{"$f":"'K19'!J10","v":0},{"$f":"'K19'!K10","v":0},{"$f":"'K19'!L10","v":0},{"$f":"'K19'!M10","v":0},{"$f":"'K19'!N10","v":0},{"$f":"'K19'!O10","v":0},{"$f":"'K19'!P10","v":0},{"$f":"'K19'!Q10","v":0},0]
["K20",{"$f":"'K20'!$B$6","v":0},{"$f":"'K20'!$Y$7","v":0},{"$f":"'K20'!$E$19","v":0},{"$f":"'K20'!Kommentarer","v":0},{"$f":"'K20'!E7","v":0},{"$f":"'K20'!F7","v":0},{"$f":"'K20'!G7","v":0},{"$f":"'K20'!H7","v":0},{"$f":"'K20'!I7","v":0},{"$f":"'K20'!J7","v":0},{"$f":"'K20'!K7","v":0},{"$f":"'K20'!L7","v":0},{"$f":"'K20'!M7","v":0},{"$f":"'K20'!N7","v":0},{"$f":"'K20'!O7","v":0},0,{"$f":"'K20'!E10","v":0},{"$f":"'K20'!F10","v":0},{"$f":"'K20'!G10","v":0},{"$f":"'K20'!H10","v":0},{"$f":"'K20'!I10","v":0},{"$f":"'K20'!J10","v":0},{"$f":"'K20'!K10","v":0},{"$f":"'K20'!L10","v":0},{"$f":"'K20'!M10","v":0},{"$f":"'K20'!N10","v":0},{"$f":"'K20'!O10","v":0},{"$f":"'K20'!P10","v":0},{"$f":"'K20'!Q10","v":0},0]
["K21",{"$f":"'K21'!$B$6","v":0},{"$f":"'K21'!$Y$7","v":0},{"$f":"'K21'!$E$19","v":0},{"$f":"'K21'!Kommentarer","v":0},{"$f":"'K21'!E7","v":0},{"$f":"'K21'!F7","v":0},{"$f":"'K21'!G7","v":0},{"$f":"'K21'!H7","v":0},{"$f":"'K21'!I7","v":0},{"$f":"'K21'!J7","v":0},{"$f":"'K21'!K7","v":0},{"$f":"'K21'!L7","v":0},{"$f":"'K21'!M7","v":0},{"$f":"'K21'!N7","v":0},{"$f":"'K21'!O7","v":0},0,{"$f":"'K21'!E10","v":0},{"$f":"'K21'!F10","v":0},{"$f":"'K21'!G10","v":0},{"$f":"'K21'!H10","v":0},{"$f":"'K21'!I10","v":0},{"$f":"'K21'!J10","v":0},{"$f":"'K21'!K10","v":0},{"$f":"'K21'!L10","v":0},{"$f":"'K21'!M10","v":0},{"$f":"'K21'!N10","v":0},{"$f":"'K21'!O10","v":0},{"$f":"'K21'!P10","v":0},{"$f":"'K21'!Q10","v":0},0]
["K22",{"$f":"'K22'!$B$6","v":0},{"$f":"'K22'!$Y$7","v":0},{"$f":"'K22'!$E$19","v":0},{"$f":"'K22'!Kommentarer","v":0},{"$f":"'K22'!E7","v":0},{"$f":"'K22'!F7","v":0},{"$f":"'K22'!G7","v":0},{"$f":"'K22'!H7","v":0},{"$f":"'K22'!I7","v":0},{"$f":"'K22'!J7","v":0},{"$f":"'K22'!K7","v":0},{"$f":"'K22'!L7","v":0},{"$f":"'K22'!M7","v":0},{"$f":"'K22'!N7","v":0},{"$f":"'K22'!O7","v":0},0,{"$f":"'K22'!E10","v":0},{"$f":"'K22'!F10","v":0},{"$f":"'K22'!G10","v":0},{"$f":"'K22'!H10","v":0},{"$f":"'K22'!I10","v":0},{"$f":"'K22'!J10","v":0},{"$f":"'K22'!K10","v":0},{"$f":"'K22'!L10","v":0},{"$f":"'K22'!M10","v":0},{"$f":"'K22'!N10","v":0},{"$f":"'K22'!O10","v":0},{"$f":"'K22'!P10","v":0},{"$f":"'K22'!Q10","v":0},0]
["K23",{"$f":"'K23'!$B$6","v":0},{"$f":"'K23'!$Y$7","v":0},{"$f":"'K23'!$E$19","v":0},{"$f":"'K23'!Kommentarer","v":0},{"$f":"'K23'!E7","v":0},{"$f":"'K23'!F7","v":0},{"$f":"'K23'!G7","v":0},{"$f":"'K23'!H7","v":0},{"$f":"'K23'!I7","v":0},{"$f":"'K23'!J7","v":0},{"$f":"'K23'!K7","v":0},{"$f":"'K23'!L7","v":0},{"$f":"'K23'!M7","v":0},{"$f":"'K23'!N7","v":0},{"$f":"'K23'!O7","v":0},0,{"$f":"'K23'!E10","v":0},{"$f":"'K23'!F10","v":0},{"$f":"'K23'!G10","v":0},{"$f":"'K23'!H10","v":0},{"$f":"'K23'!I10","v":0},{"$f":"'K23'!J10","v":0},{"$f":"'K23'!K10","v":0},{"$f":"'K23'!L10","v":0},{"$f":"'K23'!M10","v":0},{"$f":"'K23'!N10","v":0},{"$f":"'K23'!O10","v":0},{"$f":"'K23'!P10","v":0},{"$f":"'K23'!Q10","v":0},0]
["K24",{"$f":"'K24'!$B$6","v":0},{"$f":"'K24'!$Y$7","v":0},{"$f":"'K24'!$E$19","v":0},{"$f":"'K24'!Kommentarer","v":0},{"$f":"'K24'!E7","v":0},{"$f":"'K24'!F7","v":0},{"$f":"'K24'!G7","v":0},{"$f":"'K24'!H7","v":0},{"$f":"'K24'!I7","v":0},{"$f":"'K24'!J7","v":0},{"$f":"'K24'!K7","v":0},{"$f":"'K24'!L7","v":0},{"$f":"'K24'!M7","v":0},{"$f":"'K24'!N7","v":0},{"$f":"'K24'!O7","v":0},0,{"$f":"'K24'!E10","v":0},{"$f":"'K24'!F10","v":0},{"$f":"'K24'!G10","v":0},{"$f":"'K24'!H10","v":0},{"$f":"'K24'!I10","v":0},{"$f":"'K24'!J10","v":0},{"$f":"'K24'!K10","v":0},{"$f":"'K24'!L10","v":0},{"$f":"'K24'!M10","v":0},{"$f":"'K24'!N10","v":0},{"$f":"'K24'!O10","v":0},{"$f":"'K24'!P10","v":0},{"$f":"'K24'!Q10","v":0},0]
["K25",{"$f":"'K25'!$B$6","v":0},{"$f":"'K25'!$Y$7","v":0},{"$f":"'K25'!$E$19","v":0},{"$f":"'K25'!Kommentarer","v":0},{"$f":"'K25'!E7","v":0},{"$f":"'K25'!F7","v":0},{"$f":"'K25'!G7","v":0},{"$f":"'K25'!H7","v":0},{"$f":"'K25'!I7","v":0},{"$f":"'K25'!J7","v":0},{"$f":"'K25'!K7","v":0},{"$f":"'K25'!L7","v":0},{"$f":"'K25'!M7","v":0},{"$f":"'K25'!N7","v":0},{"$f":"'K25'!O7","v":0},0,{"$f":"'K25'!E10","v":0},{"$f":"'K25'!F10","v":0},{"$f":"'K25'!G10","v":0},{"$f":"'K25'!H10","v":0},{"$f":"'K25'!I10","v":0},{"$f":"'K25'!J10","v":0},{"$f":"'K25'!K10","v":0},{"$f":"'K25'!L10","v":0},{"$f":"'K25'!M10","v":0},{"$f":"'K25'!N10","v":0},{"$f":"'K25'!O10","v":0},{"$f":"'K25'!P10","v":0},{"$f":"'K25'!Q10","v":0},0]
["K26",{"$f":"'K26'!$B$6","v":0},{"$f":"'K26'!$Y$7","v":0},{"$f":"'K26'!$E$19","v":0},{"$f":"'K26'!Kommentarer","v":0},{"$f":"'K26'!E7","v":0},{"$f":"'K26'!F7","v":0},{"$f":"'K26'!G7","v":0},{"$f":"'K26'!H7","v":0},{"$f":"'K26'!I7","v":0},{"$f":"'K26'!J7","v":0},{"$f":"'K26'!K7","v":0},{"$f":"'K26'!L7","v":0},{"$f":"'K26'!M7","v":0},{"$f":"'K26'!N7","v":0},{"$f":"'K26'!O7","v":0},0,{"$f":"'K26'!E10","v":0},{"$f":"'K26'!F10","v":0},{"$f":"'K26'!G10","v":0},{"$f":"'K26'!H10","v":0},{"$f":"'K26'!I10","v":0},{"$f":"'K26'!J10","v":0},{"$f":"'K26'!K10","v":0},{"$f":"'K26'!L10","v":0},{"$f":"'K26'!M10","v":0},{"$f":"'K26'!N10","v":0},{"$f":"'K26'!O10","v":0},{"$f":"'K26'!P10","v":0},{"$f":"'K26'!Q10","v":0},0]
["K27",{"$f":"'K27'!$B$6","v":0},{"$f":"'K27'!$Y$7","v":0},{"$f":"'K27'!$E$19","v":0},{"$f":"'K27'!Kommentarer","v":0},{"$f":"'K27'!E7","v":0},{"$f":"'K27'!F7","v":0},{"$f":"'K27'!G7","v":0},{"$f":"'K27'!H7","v":0},{"$f":"'K27'!I7","v":0},{"$f":"'K27'!J7","v":0},{"$f":"'K27'!K7","v":0},{"$f":"'K27'!L7","v":0},{"$f":"'K27'!M7","v":0},{"$f":"'K27'!N7","v":0},{"$f":"'K27'!O7","v":0},0,{"$f":"'K27'!E10","v":0},{"$f":"'K27'!F10","v":0},{"$f":"'K27'!G10","v":0},{"$f":"'K27'!H10","v":0},{"$f":"'K27'!I10","v":0},{"$f":"'K27'!J10","v":0},{"$f":"'K27'!K10","v":0},{"$f":"'K27'!L10","v":0},{"$f":"'K27'!M10","v":0},{"$f":"'K27'!N10","v":0},{"$f":"'K27'!O10","v":0},{"$f":"'K27'!P10","v":0},{"$f":"'K27'!Q10","v":0},0]
["K28",{"$f":"'K28'!$B$6","v":0},{"$f":"'K28'!$Y$7","v":0},{"$f":"'K28'!$E$19","v":0},{"$f":"'K28'!Kommentarer","v":0},{"$f":"'K28'!E7","v":0},{"$f":"'K28'!F7","v":0},{"$f":"'K28'!G7","v":0},{"$f":"'K28'!H7","v":0},{"$f":"'K28'!I7","v":0},{"$f":"'K28'!J7","v":0},{"$f":"'K28'!K7","v":0},{"$f":"'K28'!L7","v":0},{"$f":"'K28'!M7","v":0},{"$f":"'K28'!N7","v":0},{"$f":"'K28'!O7","v":0},0,{"$f":"'K28'!E10","v":0},{"$f":"'K28'!F10","v":0},{"$f":"'K28'!G10","v":0},{"$f":"'K28'!H10","v":0},{"$f":"'K28'!I10","v":0},{"$f":"'K28'!J10","v":0},{"$f":"'K28'!K10","v":0},{"$f":"'K28'!L10","v":0},{"$f":"'K28'!M10","v":0},{"$f":"'K28'!N10","v":0},{"$f":"'K28'!O10","v":0},{"$f":"'K28'!P10","v":0},{"$f":"'K28'!Q10","v":0},0]
["K29",{"$f":"'K29'!$B$6","v":0},{"$f":"'K29'!$Y$7","v":0},{"$f":"'K29'!$E$19","v":0},{"$f":"'K29'!Kommentarer","v":0},{"$f":"'K29'!E7","v":0},{"$f":"'K29'!F7","v":0},{"$f":"'K29'!G7","v":0},{"$f":"'K29'!H7","v":0},{"$f":"'K29'!I7","v":0},{"$f":"'K29'!J7","v":0},{"$f":"'K29'!K7","v":0},{"$f":"'K29'!L7","v":0},{"$f":"'K29'!M7","v":0},{"$f":"'K29'!N7","v":0},{"$f":"'K29'!O7","v":0},0,{"$f":"'K29'!E10","v":0},{"$f":"'K29'!F10","v":0},{"$f":"'K29'!G10","v":0},{"$f":"'K29'!H10","v":0},{"$f":"'K29'!I10","v":0},{"$f":"'K29'!J10","v":0},{"$f":"'K29'!K10","v":0},{"$f":"'K29'!L10","v":0},{"$f":"'K29'!M10","v":0},{"$f":"'K29'!N10","v":0},{"$f":"'K29'!O10","v":0},{"$f":"'K29'!P10","v":0},{"$f":"'K29'!Q10","v":0},0]
["K30",{"$f":"'K30'!$B$6","v":0},{"$f":"'K30'!$Y$7","v":0},{"$f":"'K30'!$E$19","v":0},{"$f":"'K30'!Kommentarer","v":0},{"$f":"'K30'!E7","v":0},{"$f":"'K30'!F7","v":0},{"$f":"'K30'!G7","v":0},{"$f":"'K30'!H7","v":0},{"$f":"'K30'!I7","v":0},{"$f":"'K30'!J7","v":0},{"$f":"'K30'!K7","v":0},{"$f":"'K30'!L7","v":0},{"$f":"'K30'!M7","v":0},{"$f":"'K30'!N7","v":0},{"$f":"'K30'!O7","v":0},0,{"$f":"'K30'!E10","v":0},{"$f":"'K30'!F10","v":0},{"$f":"'K30'!G10","v":0},{"$f":"'K30'!H10","v":0},{"$f":"'K30'!I10","v":0},{"$f":"'K30'!J10","v":0},{"$f":"'K30'!K10","v":0},{"$f":"'K30'!L10","v":0},{"$f":"'K30'!M10","v":0},{"$f":"'K30'!N10","v":0},{"$f":"'K30'!O10","v":0},{"$f":"'K30'!P10","v":0},{"$f":"'K30'!Q10","v":0},0]